BEGIN:VCALENDAR
VERSION:2.0
PRODID:-//Trading Card Games, Turniere, Figuren und vieles mehr - ECPv6.15.20//NONSGML v1.0//EN
CALSCALE:GREGORIAN
METHOD:PUBLISH
X-WR-CALNAME:Trading Card Games, Turniere, Figuren und vieles mehr
X-ORIGINAL-URL:https://cardarena.at
X-WR-CALDESC:Veranstaltungen für Trading Card Games, Turniere, Figuren und vieles mehr
REFRESH-INTERVAL;VALUE=DURATION:PT1H
X-Robots-Tag:noindex
X-PUBLISHED-TTL:PT1H
BEGIN:VTIMEZONE
TZID:UTC
BEGIN:STANDARD
TZOFFSETFROM:+0000
TZOFFSETTO:+0000
TZNAME:UTC
DTSTART:20250101T000000
END:STANDARD
END:VTIMEZONE
BEGIN:VTIMEZONE
TZID:Europe/Helsinki
BEGIN:DAYLIGHT
TZOFFSETFROM:+0200
TZOFFSETTO:+0300
TZNAME:EEST
DTSTART:20250330T010000
END:DAYLIGHT
BEGIN:STANDARD
TZOFFSETFROM:+0300
TZOFFSETTO:+0200
TZNAME:EET
DTSTART:20251026T010000
END:STANDARD
BEGIN:DAYLIGHT
TZOFFSETFROM:+0200
TZOFFSETTO:+0300
TZNAME:EEST
DTSTART:20260329T010000
END:DAYLIGHT
BEGIN:STANDARD
TZOFFSETFROM:+0300
TZOFFSETTO:+0200
TZNAME:EET
DTSTART:20261025T010000
END:STANDARD
BEGIN:DAYLIGHT
TZOFFSETFROM:+0200
TZOFFSETTO:+0300
TZNAME:EEST
DTSTART:20270328T010000
END:DAYLIGHT
BEGIN:STANDARD
TZOFFSETFROM:+0300
TZOFFSETTO:+0200
TZNAME:EET
DTSTART:20271031T010000
END:STANDARD
END:VTIMEZONE
BEGIN:VEVENT
DTSTART;TZID=UTC:20260501T180000
DTEND;TZID=UTC:20260501T220000
DTSTAMP:20260421T122910
CREATED:20231205T134440Z
LAST-MODIFIED:20260402T161444Z
UID:10013394-1777658400-1777672800@cardarena.at
SUMMARY:Magic the Gathering Weekly Draft
DESCRIPTION:
URL:https://cardarena.at/event/magic-the-gathering-weekly-draft-2/2026-05-01/
LOCATION:CardArena GmbH\, Leopoldskronstraße 4\, Salzburg\, Salzburg\, 5020\, Österreich
CATEGORIES:Magic the Gathering
ATTACH;FMTTYPE=image/png:https://cardarena.at/wp-content/uploads/2023/08/Magic-The-Gathering-logo.png
END:VEVENT
BEGIN:VEVENT
DTSTART;TZID=UTC:20260502T150000
DTEND;TZID=UTC:20260502T230000
DTSTAMP:20260421T122910
CREATED:20250304T153653Z
LAST-MODIFIED:20260317T155943Z
UID:10011755-1777734000-1777762800@cardarena.at
SUMMARY:MtG: Commander Event
DESCRIPTION:
URL:https://cardarena.at/event/mtg-commander-evening/2026-05-02/
LOCATION:CardArena GmbH\, Leopoldskronstraße 4\, Salzburg\, Salzburg\, 5020\, Österreich
CATEGORIES:Magic the Gathering
ATTACH;FMTTYPE=image/png:https://cardarena.at/wp-content/uploads/2025/03/954debf16a4d6a3046f26041412f31d5.png
END:VEVENT
BEGIN:VEVENT
DTSTART;TZID=Europe/Helsinki:20260503T140000
DTEND;TZID=Europe/Helsinki:20260503T190000
DTSTAMP:20260421T122910
CREATED:20230914T215556Z
LAST-MODIFIED:20260402T161109Z
UID:10004449-1777816800-1777834800@cardarena.at
SUMMARY:Yu-Gi-Oh! Turnier Sonntag
DESCRIPTION:
URL:https://cardarena.at/event/yu-gi-oh-turnier-sonntag/2026-05-03/
LOCATION:CardArena GmbH\, Leopoldskronstraße 4\, Salzburg\, Salzburg\, 5020\, Österreich
CATEGORIES:Yu-Gi-Oh
ATTACH;FMTTYPE=image/png:https://cardarena.at/wp-content/uploads/2023/08/TCG_logo_500x500-e1765610550231.png
END:VEVENT
BEGIN:VEVENT
DTSTART;VALUE=DATE:20260504
DTEND;VALUE=DATE:20260505
DTSTAMP:20260421T122910
CREATED:20250115T134027Z
LAST-MODIFIED:20250502T144200Z
UID:10006337-1777852800-1777939199@cardarena.at
SUMMARY:GESCHLOSSEN
DESCRIPTION:
URL:https://cardarena.at/event/cardarena-geschlossen/2026-05-04/
LOCATION:CardArena GmbH\, Leopoldskronstraße 4\, Salzburg\, Salzburg\, 5020\, Österreich
END:VEVENT
BEGIN:VEVENT
DTSTART;VALUE=DATE:20260505
DTEND;VALUE=DATE:20260506
DTSTAMP:20260421T122910
CREATED:20250115T134027Z
LAST-MODIFIED:20250502T144200Z
UID:10006338-1777939200-1778025599@cardarena.at
SUMMARY:GESCHLOSSEN
DESCRIPTION:
URL:https://cardarena.at/event/cardarena-geschlossen/2026-05-05/
LOCATION:CardArena GmbH\, Leopoldskronstraße 4\, Salzburg\, Salzburg\, 5020\, Österreich
END:VEVENT
BEGIN:VEVENT
DTSTART;TZID=UTC:20260506T150000
DTEND;TZID=UTC:20260506T230000
DTSTAMP:20260421T122910
CREATED:20250304T153653Z
LAST-MODIFIED:20260317T155943Z
UID:10011756-1778079600-1778108400@cardarena.at
SUMMARY:MtG: Commander Event
DESCRIPTION:
URL:https://cardarena.at/event/mtg-commander-evening/2026-05-06/
LOCATION:CardArena GmbH\, Leopoldskronstraße 4\, Salzburg\, Salzburg\, 5020\, Österreich
CATEGORIES:Magic the Gathering
ATTACH;FMTTYPE=image/png:https://cardarena.at/wp-content/uploads/2025/03/954debf16a4d6a3046f26041412f31d5.png
END:VEVENT
BEGIN:VEVENT
DTSTART;TZID=UTC:20260506T180000
DTEND;TZID=UTC:20260506T200000
DTSTAMP:20260421T122910
CREATED:20260205T173152Z
LAST-MODIFIED:20260225T043115Z
UID:10010174-1778090400-1778097600@cardarena.at
SUMMARY:One Piece Turnier Mittwoch
DESCRIPTION:
URL:https://cardarena.at/event/one-piece-turnier-mittwoch/2026-05-06/
LOCATION:CardArena GmbH\, Leopoldskronstraße 4\, Salzburg\, Salzburg\, 5020\, Österreich
CATEGORIES:One Piece TCG
ATTACH;FMTTYPE=image/jpeg:https://cardarena.at/wp-content/uploads/2023/08/650x650_f935f1bd05c22cad10a4957f53622c08454584a4aa67ee74292e8135.jpg
END:VEVENT
BEGIN:VEVENT
DTSTART;TZID=UTC:20260506T180000
DTEND;TZID=UTC:20260506T220000
DTSTAMP:20260421T122910
CREATED:20251111T202219Z
LAST-MODIFIED:20260402T160914Z
UID:10011304-1778090400-1778104800@cardarena.at
SUMMARY:Riftbound: Nexus Night
DESCRIPTION:
URL:https://cardarena.at/event/riftbound-nexus-night/2026-05-06/
LOCATION:CardArena GmbH\, Leopoldskronstraße 4\, Salzburg\, Salzburg\, 5020\, Österreich
CATEGORIES:Riftbound
ATTACH;FMTTYPE=image/jpeg:https://cardarena.at/wp-content/uploads/2025/11/riftbound-logo.jpg
END:VEVENT
BEGIN:VEVENT
DTSTART;TZID=UTC:20260507T150000
DTEND;TZID=UTC:20260507T200000
DTSTAMP:20260421T122910
CREATED:20230905T113754Z
LAST-MODIFIED:20260402T161325Z
UID:10012679-1778166000-1778184000@cardarena.at
SUMMARY:Disney Lorcana League Day
DESCRIPTION:
URL:https://cardarena.at/event/disney-lorcana-league-day/2026-05-07/
LOCATION:CardArena GmbH\, Leopoldskronstraße 4\, Salzburg\, Salzburg\, 5020\, Österreich
CATEGORIES:Lorcana TCG
ATTACH;FMTTYPE=image/jpeg:https://cardarena.at/wp-content/uploads/2023/09/00_lorcana-042723_1180w-600h.jpg
END:VEVENT
BEGIN:VEVENT
DTSTART;TZID=Europe/Helsinki:20260507T170000
DTEND;TZID=Europe/Helsinki:20260507T200000
DTSTAMP:20260421T122910
CREATED:20230815T084659Z
LAST-MODIFIED:20260225T043056Z
UID:10000933-1778173200-1778184000@cardarena.at
SUMMARY:Yu-Gi-Oh! Turnier Donnerstag
DESCRIPTION:
URL:https://cardarena.at/event/yu-gi-oh-turnier/2026-05-07/
LOCATION:CardArena GmbH\, Leopoldskronstraße 4\, Salzburg\, Salzburg\, 5020\, Österreich
CATEGORIES:Yu-Gi-Oh
ATTACH;FMTTYPE=image/png:https://cardarena.at/wp-content/uploads/2023/08/TCG_logo_500x500-e1765610550231.png
END:VEVENT
BEGIN:VEVENT
DTSTART;TZID=UTC:20260508T150000
DTEND;TZID=UTC:20260508T230000
DTSTAMP:20260421T122910
CREATED:20250304T153653Z
LAST-MODIFIED:20260317T155943Z
UID:10011757-1778252400-1778281200@cardarena.at
SUMMARY:MtG: Commander Event
DESCRIPTION:
URL:https://cardarena.at/event/mtg-commander-evening/2026-05-08/
LOCATION:CardArena GmbH\, Leopoldskronstraße 4\, Salzburg\, Salzburg\, 5020\, Österreich
CATEGORIES:Magic the Gathering
ATTACH;FMTTYPE=image/png:https://cardarena.at/wp-content/uploads/2025/03/954debf16a4d6a3046f26041412f31d5.png
END:VEVENT
BEGIN:VEVENT
DTSTART;TZID=UTC:20260508T170000
DTEND;TZID=UTC:20260508T193000
DTSTAMP:20260421T122910
CREATED:20230815T084808Z
LAST-MODIFIED:20260402T161201Z
UID:10000146-1778259600-1778268600@cardarena.at
SUMMARY:One Piece Turnier
DESCRIPTION:
URL:https://cardarena.at/event/one-piece-turnier/2026-05-08/
LOCATION:CardArena GmbH\, Leopoldskronstraße 4\, Salzburg\, Salzburg\, 5020\, Österreich
CATEGORIES:One Piece TCG
ATTACH;FMTTYPE=image/jpeg:https://cardarena.at/wp-content/uploads/2023/08/650x650_f935f1bd05c22cad10a4957f53622c08454584a4aa67ee74292e8135.jpg
END:VEVENT
BEGIN:VEVENT
DTSTART;TZID=UTC:20260508T180000
DTEND;TZID=UTC:20260508T220000
DTSTAMP:20260421T122910
CREATED:20231205T134440Z
LAST-MODIFIED:20260402T161444Z
UID:10013395-1778263200-1778277600@cardarena.at
SUMMARY:Magic the Gathering Weekly Draft
DESCRIPTION:
URL:https://cardarena.at/event/magic-the-gathering-weekly-draft-2/2026-05-08/
LOCATION:CardArena GmbH\, Leopoldskronstraße 4\, Salzburg\, Salzburg\, 5020\, Österreich
CATEGORIES:Magic the Gathering
ATTACH;FMTTYPE=image/png:https://cardarena.at/wp-content/uploads/2023/08/Magic-The-Gathering-logo.png
END:VEVENT
BEGIN:VEVENT
DTSTART;TZID=UTC:20260509T150000
DTEND;TZID=UTC:20260509T230000
DTSTAMP:20260421T122910
CREATED:20250304T153653Z
LAST-MODIFIED:20260317T155943Z
UID:10011758-1778338800-1778367600@cardarena.at
SUMMARY:MtG: Commander Event
DESCRIPTION:
URL:https://cardarena.at/event/mtg-commander-evening/2026-05-09/
LOCATION:CardArena GmbH\, Leopoldskronstraße 4\, Salzburg\, Salzburg\, 5020\, Österreich
CATEGORIES:Magic the Gathering
ATTACH;FMTTYPE=image/png:https://cardarena.at/wp-content/uploads/2025/03/954debf16a4d6a3046f26041412f31d5.png
END:VEVENT
BEGIN:VEVENT
DTSTART;TZID=Europe/Helsinki:20260510T140000
DTEND;TZID=Europe/Helsinki:20260510T190000
DTSTAMP:20260421T122910
CREATED:20230914T215556Z
LAST-MODIFIED:20260402T161109Z
UID:10004450-1778421600-1778439600@cardarena.at
SUMMARY:Yu-Gi-Oh! Turnier Sonntag
DESCRIPTION:
URL:https://cardarena.at/event/yu-gi-oh-turnier-sonntag/2026-05-10/
LOCATION:CardArena GmbH\, Leopoldskronstraße 4\, Salzburg\, Salzburg\, 5020\, Österreich
CATEGORIES:Yu-Gi-Oh
ATTACH;FMTTYPE=image/png:https://cardarena.at/wp-content/uploads/2023/08/TCG_logo_500x500-e1765610550231.png
END:VEVENT
BEGIN:VEVENT
DTSTART;VALUE=DATE:20260511
DTEND;VALUE=DATE:20260512
DTSTAMP:20260421T122910
CREATED:20250115T134027Z
LAST-MODIFIED:20250502T144200Z
UID:10006339-1778457600-1778543999@cardarena.at
SUMMARY:GESCHLOSSEN
DESCRIPTION:
URL:https://cardarena.at/event/cardarena-geschlossen/2026-05-11/
LOCATION:CardArena GmbH\, Leopoldskronstraße 4\, Salzburg\, Salzburg\, 5020\, Österreich
END:VEVENT
BEGIN:VEVENT
DTSTART;VALUE=DATE:20260512
DTEND;VALUE=DATE:20260513
DTSTAMP:20260421T122910
CREATED:20250115T134027Z
LAST-MODIFIED:20250502T144200Z
UID:10006340-1778544000-1778630399@cardarena.at
SUMMARY:GESCHLOSSEN
DESCRIPTION:
URL:https://cardarena.at/event/cardarena-geschlossen/2026-05-12/
LOCATION:CardArena GmbH\, Leopoldskronstraße 4\, Salzburg\, Salzburg\, 5020\, Österreich
END:VEVENT
BEGIN:VEVENT
DTSTART;TZID=UTC:20260513T150000
DTEND;TZID=UTC:20260513T230000
DTSTAMP:20260421T122910
CREATED:20250304T153653Z
LAST-MODIFIED:20260317T155943Z
UID:10011759-1778684400-1778713200@cardarena.at
SUMMARY:MtG: Commander Event
DESCRIPTION:
URL:https://cardarena.at/event/mtg-commander-evening/2026-05-13/
LOCATION:CardArena GmbH\, Leopoldskronstraße 4\, Salzburg\, Salzburg\, 5020\, Österreich
CATEGORIES:Magic the Gathering
ATTACH;FMTTYPE=image/png:https://cardarena.at/wp-content/uploads/2025/03/954debf16a4d6a3046f26041412f31d5.png
END:VEVENT
BEGIN:VEVENT
DTSTART;TZID=UTC:20260513T180000
DTEND;TZID=UTC:20260513T200000
DTSTAMP:20260421T122910
CREATED:20260205T173152Z
LAST-MODIFIED:20260225T043115Z
UID:10010175-1778695200-1778702400@cardarena.at
SUMMARY:One Piece Turnier Mittwoch
DESCRIPTION:
URL:https://cardarena.at/event/one-piece-turnier-mittwoch/2026-05-13/
LOCATION:CardArena GmbH\, Leopoldskronstraße 4\, Salzburg\, Salzburg\, 5020\, Österreich
CATEGORIES:One Piece TCG
ATTACH;FMTTYPE=image/jpeg:https://cardarena.at/wp-content/uploads/2023/08/650x650_f935f1bd05c22cad10a4957f53622c08454584a4aa67ee74292e8135.jpg
END:VEVENT
BEGIN:VEVENT
DTSTART;TZID=UTC:20260513T180000
DTEND;TZID=UTC:20260513T220000
DTSTAMP:20260421T122910
CREATED:20251111T202219Z
LAST-MODIFIED:20260402T160914Z
UID:10011305-1778695200-1778709600@cardarena.at
SUMMARY:Riftbound: Nexus Night
DESCRIPTION:
URL:https://cardarena.at/event/riftbound-nexus-night/2026-05-13/
LOCATION:CardArena GmbH\, Leopoldskronstraße 4\, Salzburg\, Salzburg\, 5020\, Österreich
CATEGORIES:Riftbound
ATTACH;FMTTYPE=image/jpeg:https://cardarena.at/wp-content/uploads/2025/11/riftbound-logo.jpg
END:VEVENT
BEGIN:VEVENT
DTSTART;TZID=UTC:20260514T150000
DTEND;TZID=UTC:20260514T200000
DTSTAMP:20260421T122910
CREATED:20230905T113754Z
LAST-MODIFIED:20260402T161325Z
UID:10012680-1778770800-1778788800@cardarena.at
SUMMARY:Disney Lorcana League Day
DESCRIPTION:
URL:https://cardarena.at/event/disney-lorcana-league-day/2026-05-14/
LOCATION:CardArena GmbH\, Leopoldskronstraße 4\, Salzburg\, Salzburg\, 5020\, Österreich
CATEGORIES:Lorcana TCG
ATTACH;FMTTYPE=image/jpeg:https://cardarena.at/wp-content/uploads/2023/09/00_lorcana-042723_1180w-600h.jpg
END:VEVENT
BEGIN:VEVENT
DTSTART;TZID=Europe/Helsinki:20260514T170000
DTEND;TZID=Europe/Helsinki:20260514T200000
DTSTAMP:20260421T122910
CREATED:20230815T084659Z
LAST-MODIFIED:20260225T043056Z
UID:10000934-1778778000-1778788800@cardarena.at
SUMMARY:Yu-Gi-Oh! Turnier Donnerstag
DESCRIPTION:
URL:https://cardarena.at/event/yu-gi-oh-turnier/2026-05-14/
LOCATION:CardArena GmbH\, Leopoldskronstraße 4\, Salzburg\, Salzburg\, 5020\, Österreich
CATEGORIES:Yu-Gi-Oh
ATTACH;FMTTYPE=image/png:https://cardarena.at/wp-content/uploads/2023/08/TCG_logo_500x500-e1765610550231.png
END:VEVENT
BEGIN:VEVENT
DTSTART;TZID=UTC:20260515T150000
DTEND;TZID=UTC:20260515T230000
DTSTAMP:20260421T122910
CREATED:20250304T153653Z
LAST-MODIFIED:20260317T155943Z
UID:10011760-1778857200-1778886000@cardarena.at
SUMMARY:MtG: Commander Event
DESCRIPTION:
URL:https://cardarena.at/event/mtg-commander-evening/2026-05-15/
LOCATION:CardArena GmbH\, Leopoldskronstraße 4\, Salzburg\, Salzburg\, 5020\, Österreich
CATEGORIES:Magic the Gathering
ATTACH;FMTTYPE=image/png:https://cardarena.at/wp-content/uploads/2025/03/954debf16a4d6a3046f26041412f31d5.png
END:VEVENT
BEGIN:VEVENT
DTSTART;TZID=UTC:20260515T170000
DTEND;TZID=UTC:20260515T193000
DTSTAMP:20260421T122910
CREATED:20230815T084808Z
LAST-MODIFIED:20260402T161201Z
UID:10000147-1778864400-1778873400@cardarena.at
SUMMARY:One Piece Turnier
DESCRIPTION:
URL:https://cardarena.at/event/one-piece-turnier/2026-05-15/
LOCATION:CardArena GmbH\, Leopoldskronstraße 4\, Salzburg\, Salzburg\, 5020\, Österreich
CATEGORIES:One Piece TCG
ATTACH;FMTTYPE=image/jpeg:https://cardarena.at/wp-content/uploads/2023/08/650x650_f935f1bd05c22cad10a4957f53622c08454584a4aa67ee74292e8135.jpg
END:VEVENT
BEGIN:VEVENT
DTSTART;TZID=UTC:20260515T180000
DTEND;TZID=UTC:20260515T220000
DTSTAMP:20260421T122910
CREATED:20231205T134440Z
LAST-MODIFIED:20260402T161444Z
UID:10013396-1778868000-1778882400@cardarena.at
SUMMARY:Magic the Gathering Weekly Draft
DESCRIPTION:
URL:https://cardarena.at/event/magic-the-gathering-weekly-draft-2/2026-05-15/
LOCATION:CardArena GmbH\, Leopoldskronstraße 4\, Salzburg\, Salzburg\, 5020\, Österreich
CATEGORIES:Magic the Gathering
ATTACH;FMTTYPE=image/png:https://cardarena.at/wp-content/uploads/2023/08/Magic-The-Gathering-logo.png
END:VEVENT
BEGIN:VEVENT
DTSTART;TZID=UTC:20260516T150000
DTEND;TZID=UTC:20260516T230000
DTSTAMP:20260421T122910
CREATED:20250304T153653Z
LAST-MODIFIED:20260317T155943Z
UID:10011761-1778943600-1778972400@cardarena.at
SUMMARY:MtG: Commander Event
DESCRIPTION:
URL:https://cardarena.at/event/mtg-commander-evening/2026-05-16/
LOCATION:CardArena GmbH\, Leopoldskronstraße 4\, Salzburg\, Salzburg\, 5020\, Österreich
CATEGORIES:Magic the Gathering
ATTACH;FMTTYPE=image/png:https://cardarena.at/wp-content/uploads/2025/03/954debf16a4d6a3046f26041412f31d5.png
END:VEVENT
BEGIN:VEVENT
DTSTART;TZID=Europe/Helsinki:20260517T140000
DTEND;TZID=Europe/Helsinki:20260517T190000
DTSTAMP:20260421T122910
CREATED:20230914T215556Z
LAST-MODIFIED:20260402T161109Z
UID:10004451-1779026400-1779044400@cardarena.at
SUMMARY:Yu-Gi-Oh! Turnier Sonntag
DESCRIPTION:
URL:https://cardarena.at/event/yu-gi-oh-turnier-sonntag/2026-05-17/
LOCATION:CardArena GmbH\, Leopoldskronstraße 4\, Salzburg\, Salzburg\, 5020\, Österreich
CATEGORIES:Yu-Gi-Oh
ATTACH;FMTTYPE=image/png:https://cardarena.at/wp-content/uploads/2023/08/TCG_logo_500x500-e1765610550231.png
END:VEVENT
BEGIN:VEVENT
DTSTART;VALUE=DATE:20260518
DTEND;VALUE=DATE:20260519
DTSTAMP:20260421T122910
CREATED:20250115T134027Z
LAST-MODIFIED:20250502T144200Z
UID:10006341-1779062400-1779148799@cardarena.at
SUMMARY:GESCHLOSSEN
DESCRIPTION:
URL:https://cardarena.at/event/cardarena-geschlossen/2026-05-18/
LOCATION:CardArena GmbH\, Leopoldskronstraße 4\, Salzburg\, Salzburg\, 5020\, Österreich
END:VEVENT
BEGIN:VEVENT
DTSTART;VALUE=DATE:20260519
DTEND;VALUE=DATE:20260520
DTSTAMP:20260421T122910
CREATED:20250115T134027Z
LAST-MODIFIED:20250502T144200Z
UID:10006342-1779148800-1779235199@cardarena.at
SUMMARY:GESCHLOSSEN
DESCRIPTION:
URL:https://cardarena.at/event/cardarena-geschlossen/2026-05-19/
LOCATION:CardArena GmbH\, Leopoldskronstraße 4\, Salzburg\, Salzburg\, 5020\, Österreich
END:VEVENT
BEGIN:VEVENT
DTSTART;TZID=UTC:20260520T150000
DTEND;TZID=UTC:20260520T230000
DTSTAMP:20260421T122910
CREATED:20250304T153653Z
LAST-MODIFIED:20260317T155943Z
UID:10011762-1779289200-1779318000@cardarena.at
SUMMARY:MtG: Commander Event
DESCRIPTION:
URL:https://cardarena.at/event/mtg-commander-evening/2026-05-20/
LOCATION:CardArena GmbH\, Leopoldskronstraße 4\, Salzburg\, Salzburg\, 5020\, Österreich
CATEGORIES:Magic the Gathering
ATTACH;FMTTYPE=image/png:https://cardarena.at/wp-content/uploads/2025/03/954debf16a4d6a3046f26041412f31d5.png
END:VEVENT
END:VCALENDAR