BEGIN:VCALENDAR
VERSION:2.0
PRODID:-//Trading Card Games, Turniere, Figuren und vieles mehr - ECPv6.15.20//NONSGML v1.0//EN
CALSCALE:GREGORIAN
METHOD:PUBLISH
X-WR-CALNAME:Trading Card Games, Turniere, Figuren und vieles mehr
X-ORIGINAL-URL:https://cardarena.at
X-WR-CALDESC:Veranstaltungen für Trading Card Games, Turniere, Figuren und vieles mehr
REFRESH-INTERVAL;VALUE=DURATION:PT1H
X-Robots-Tag:noindex
X-PUBLISHED-TTL:PT1H
BEGIN:VTIMEZONE
TZID:Europe/Helsinki
BEGIN:DAYLIGHT
TZOFFSETFROM:+0200
TZOFFSETTO:+0300
TZNAME:EEST
DTSTART:20250330T010000
END:DAYLIGHT
BEGIN:STANDARD
TZOFFSETFROM:+0300
TZOFFSETTO:+0200
TZNAME:EET
DTSTART:20251026T010000
END:STANDARD
BEGIN:DAYLIGHT
TZOFFSETFROM:+0200
TZOFFSETTO:+0300
TZNAME:EEST
DTSTART:20260329T010000
END:DAYLIGHT
BEGIN:STANDARD
TZOFFSETFROM:+0300
TZOFFSETTO:+0200
TZNAME:EET
DTSTART:20261025T010000
END:STANDARD
BEGIN:DAYLIGHT
TZOFFSETFROM:+0200
TZOFFSETTO:+0300
TZNAME:EEST
DTSTART:20270328T010000
END:DAYLIGHT
BEGIN:STANDARD
TZOFFSETFROM:+0300
TZOFFSETTO:+0200
TZNAME:EET
DTSTART:20271031T010000
END:STANDARD
END:VTIMEZONE
BEGIN:VTIMEZONE
TZID:UTC
BEGIN:STANDARD
TZOFFSETFROM:+0000
TZOFFSETTO:+0000
TZNAME:UTC
DTSTART:20250101T000000
END:STANDARD
END:VTIMEZONE
BEGIN:VEVENT
DTSTART;TZID=Europe/Helsinki:20260514T170000
DTEND;TZID=Europe/Helsinki:20260514T200000
DTSTAMP:20260419T144827
CREATED:20230815T084659Z
LAST-MODIFIED:20260225T043056Z
UID:10000934-1778778000-1778788800@cardarena.at
SUMMARY:Yu-Gi-Oh! Turnier Donnerstag
DESCRIPTION:
URL:https://cardarena.at/event/yu-gi-oh-turnier/2026-05-14/
LOCATION:CardArena GmbH\, Leopoldskronstraße 4\, Salzburg\, Salzburg\, 5020\, Österreich
CATEGORIES:Yu-Gi-Oh
ATTACH;FMTTYPE=image/png:https://cardarena.at/wp-content/uploads/2023/08/TCG_logo_500x500-e1765610550231.png
END:VEVENT
BEGIN:VEVENT
DTSTART;TZID=UTC:20260515T150000
DTEND;TZID=UTC:20260515T230000
DTSTAMP:20260419T144827
CREATED:20250304T153653Z
LAST-MODIFIED:20260317T155943Z
UID:10011760-1778857200-1778886000@cardarena.at
SUMMARY:MtG: Commander Event
DESCRIPTION:
URL:https://cardarena.at/event/mtg-commander-evening/2026-05-15/
LOCATION:CardArena GmbH\, Leopoldskronstraße 4\, Salzburg\, Salzburg\, 5020\, Österreich
CATEGORIES:Magic the Gathering
ATTACH;FMTTYPE=image/png:https://cardarena.at/wp-content/uploads/2025/03/954debf16a4d6a3046f26041412f31d5.png
END:VEVENT
BEGIN:VEVENT
DTSTART;TZID=UTC:20260515T170000
DTEND;TZID=UTC:20260515T193000
DTSTAMP:20260419T144827
CREATED:20230815T084808Z
LAST-MODIFIED:20260402T161201Z
UID:10000147-1778864400-1778873400@cardarena.at
SUMMARY:One Piece Turnier
DESCRIPTION:
URL:https://cardarena.at/event/one-piece-turnier/2026-05-15/
LOCATION:CardArena GmbH\, Leopoldskronstraße 4\, Salzburg\, Salzburg\, 5020\, Österreich
CATEGORIES:One Piece TCG
ATTACH;FMTTYPE=image/jpeg:https://cardarena.at/wp-content/uploads/2023/08/650x650_f935f1bd05c22cad10a4957f53622c08454584a4aa67ee74292e8135.jpg
END:VEVENT
BEGIN:VEVENT
DTSTART;TZID=UTC:20260515T180000
DTEND;TZID=UTC:20260515T220000
DTSTAMP:20260419T144827
CREATED:20231205T134440Z
LAST-MODIFIED:20260402T161444Z
UID:10013396-1778868000-1778882400@cardarena.at
SUMMARY:Magic the Gathering Weekly Draft
DESCRIPTION:
URL:https://cardarena.at/event/magic-the-gathering-weekly-draft-2/2026-05-15/
LOCATION:CardArena GmbH\, Leopoldskronstraße 4\, Salzburg\, Salzburg\, 5020\, Österreich
CATEGORIES:Magic the Gathering
ATTACH;FMTTYPE=image/png:https://cardarena.at/wp-content/uploads/2023/08/Magic-The-Gathering-logo.png
END:VEVENT
BEGIN:VEVENT
DTSTART;TZID=UTC:20260516T150000
DTEND;TZID=UTC:20260516T230000
DTSTAMP:20260419T144827
CREATED:20250304T153653Z
LAST-MODIFIED:20260317T155943Z
UID:10011761-1778943600-1778972400@cardarena.at
SUMMARY:MtG: Commander Event
DESCRIPTION:
URL:https://cardarena.at/event/mtg-commander-evening/2026-05-16/
LOCATION:CardArena GmbH\, Leopoldskronstraße 4\, Salzburg\, Salzburg\, 5020\, Österreich
CATEGORIES:Magic the Gathering
ATTACH;FMTTYPE=image/png:https://cardarena.at/wp-content/uploads/2025/03/954debf16a4d6a3046f26041412f31d5.png
END:VEVENT
BEGIN:VEVENT
DTSTART;TZID=Europe/Helsinki:20260517T140000
DTEND;TZID=Europe/Helsinki:20260517T190000
DTSTAMP:20260419T144827
CREATED:20230914T215556Z
LAST-MODIFIED:20260402T161109Z
UID:10004451-1779026400-1779044400@cardarena.at
SUMMARY:Yu-Gi-Oh! Turnier Sonntag
DESCRIPTION:
URL:https://cardarena.at/event/yu-gi-oh-turnier-sonntag/2026-05-17/
LOCATION:CardArena GmbH\, Leopoldskronstraße 4\, Salzburg\, Salzburg\, 5020\, Österreich
CATEGORIES:Yu-Gi-Oh
ATTACH;FMTTYPE=image/png:https://cardarena.at/wp-content/uploads/2023/08/TCG_logo_500x500-e1765610550231.png
END:VEVENT
BEGIN:VEVENT
DTSTART;VALUE=DATE:20260518
DTEND;VALUE=DATE:20260519
DTSTAMP:20260419T144827
CREATED:20250115T134027Z
LAST-MODIFIED:20250502T144200Z
UID:10006341-1779062400-1779148799@cardarena.at
SUMMARY:GESCHLOSSEN
DESCRIPTION:
URL:https://cardarena.at/event/cardarena-geschlossen/2026-05-18/
LOCATION:CardArena GmbH\, Leopoldskronstraße 4\, Salzburg\, Salzburg\, 5020\, Österreich
END:VEVENT
BEGIN:VEVENT
DTSTART;VALUE=DATE:20260519
DTEND;VALUE=DATE:20260520
DTSTAMP:20260419T144827
CREATED:20250115T134027Z
LAST-MODIFIED:20250502T144200Z
UID:10006342-1779148800-1779235199@cardarena.at
SUMMARY:GESCHLOSSEN
DESCRIPTION:
URL:https://cardarena.at/event/cardarena-geschlossen/2026-05-19/
LOCATION:CardArena GmbH\, Leopoldskronstraße 4\, Salzburg\, Salzburg\, 5020\, Österreich
END:VEVENT
BEGIN:VEVENT
DTSTART;TZID=UTC:20260520T150000
DTEND;TZID=UTC:20260520T230000
DTSTAMP:20260419T144827
CREATED:20250304T153653Z
LAST-MODIFIED:20260317T155943Z
UID:10011762-1779289200-1779318000@cardarena.at
SUMMARY:MtG: Commander Event
DESCRIPTION:
URL:https://cardarena.at/event/mtg-commander-evening/2026-05-20/
LOCATION:CardArena GmbH\, Leopoldskronstraße 4\, Salzburg\, Salzburg\, 5020\, Österreich
CATEGORIES:Magic the Gathering
ATTACH;FMTTYPE=image/png:https://cardarena.at/wp-content/uploads/2025/03/954debf16a4d6a3046f26041412f31d5.png
END:VEVENT
BEGIN:VEVENT
DTSTART;TZID=UTC:20260520T180000
DTEND;TZID=UTC:20260520T200000
DTSTAMP:20260419T144827
CREATED:20260205T173152Z
LAST-MODIFIED:20260225T043115Z
UID:10010176-1779300000-1779307200@cardarena.at
SUMMARY:One Piece Turnier Mittwoch
DESCRIPTION:
URL:https://cardarena.at/event/one-piece-turnier-mittwoch/2026-05-20/
LOCATION:CardArena GmbH\, Leopoldskronstraße 4\, Salzburg\, Salzburg\, 5020\, Österreich
CATEGORIES:One Piece TCG
ATTACH;FMTTYPE=image/jpeg:https://cardarena.at/wp-content/uploads/2023/08/650x650_f935f1bd05c22cad10a4957f53622c08454584a4aa67ee74292e8135.jpg
END:VEVENT
BEGIN:VEVENT
DTSTART;TZID=UTC:20260520T180000
DTEND;TZID=UTC:20260520T220000
DTSTAMP:20260419T144827
CREATED:20251111T202219Z
LAST-MODIFIED:20260402T160914Z
UID:10011306-1779300000-1779314400@cardarena.at
SUMMARY:Riftbound: Nexus Night
DESCRIPTION:
URL:https://cardarena.at/event/riftbound-nexus-night/2026-05-20/
LOCATION:CardArena GmbH\, Leopoldskronstraße 4\, Salzburg\, Salzburg\, 5020\, Österreich
CATEGORIES:Riftbound
ATTACH;FMTTYPE=image/jpeg:https://cardarena.at/wp-content/uploads/2025/11/riftbound-logo.jpg
END:VEVENT
BEGIN:VEVENT
DTSTART;TZID=UTC:20260521T150000
DTEND;TZID=UTC:20260521T200000
DTSTAMP:20260419T144827
CREATED:20230905T113754Z
LAST-MODIFIED:20260402T161325Z
UID:10012681-1779375600-1779393600@cardarena.at
SUMMARY:Disney Lorcana League Day
DESCRIPTION:
URL:https://cardarena.at/event/disney-lorcana-league-day/2026-05-21/
LOCATION:CardArena GmbH\, Leopoldskronstraße 4\, Salzburg\, Salzburg\, 5020\, Österreich
CATEGORIES:Lorcana TCG
ATTACH;FMTTYPE=image/jpeg:https://cardarena.at/wp-content/uploads/2023/09/00_lorcana-042723_1180w-600h.jpg
END:VEVENT
BEGIN:VEVENT
DTSTART;TZID=Europe/Helsinki:20260521T170000
DTEND;TZID=Europe/Helsinki:20260521T200000
DTSTAMP:20260419T144827
CREATED:20230815T084659Z
LAST-MODIFIED:20260225T043056Z
UID:10000935-1779382800-1779393600@cardarena.at
SUMMARY:Yu-Gi-Oh! Turnier Donnerstag
DESCRIPTION:
URL:https://cardarena.at/event/yu-gi-oh-turnier/2026-05-21/
LOCATION:CardArena GmbH\, Leopoldskronstraße 4\, Salzburg\, Salzburg\, 5020\, Österreich
CATEGORIES:Yu-Gi-Oh
ATTACH;FMTTYPE=image/png:https://cardarena.at/wp-content/uploads/2023/08/TCG_logo_500x500-e1765610550231.png
END:VEVENT
BEGIN:VEVENT
DTSTART;TZID=UTC:20260522T150000
DTEND;TZID=UTC:20260522T230000
DTSTAMP:20260419T144827
CREATED:20250304T153653Z
LAST-MODIFIED:20260317T155943Z
UID:10011763-1779462000-1779490800@cardarena.at
SUMMARY:MtG: Commander Event
DESCRIPTION:
URL:https://cardarena.at/event/mtg-commander-evening/2026-05-22/
LOCATION:CardArena GmbH\, Leopoldskronstraße 4\, Salzburg\, Salzburg\, 5020\, Österreich
CATEGORIES:Magic the Gathering
ATTACH;FMTTYPE=image/png:https://cardarena.at/wp-content/uploads/2025/03/954debf16a4d6a3046f26041412f31d5.png
END:VEVENT
BEGIN:VEVENT
DTSTART;TZID=UTC:20260522T170000
DTEND;TZID=UTC:20260522T193000
DTSTAMP:20260419T144827
CREATED:20230815T084808Z
LAST-MODIFIED:20260402T161201Z
UID:10000148-1779469200-1779478200@cardarena.at
SUMMARY:One Piece Turnier
DESCRIPTION:
URL:https://cardarena.at/event/one-piece-turnier/2026-05-22/
LOCATION:CardArena GmbH\, Leopoldskronstraße 4\, Salzburg\, Salzburg\, 5020\, Österreich
CATEGORIES:One Piece TCG
ATTACH;FMTTYPE=image/jpeg:https://cardarena.at/wp-content/uploads/2023/08/650x650_f935f1bd05c22cad10a4957f53622c08454584a4aa67ee74292e8135.jpg
END:VEVENT
BEGIN:VEVENT
DTSTART;TZID=UTC:20260522T180000
DTEND;TZID=UTC:20260522T220000
DTSTAMP:20260419T144827
CREATED:20231205T134440Z
LAST-MODIFIED:20260402T161444Z
UID:10013397-1779472800-1779487200@cardarena.at
SUMMARY:Magic the Gathering Weekly Draft
DESCRIPTION:
URL:https://cardarena.at/event/magic-the-gathering-weekly-draft-2/2026-05-22/
LOCATION:CardArena GmbH\, Leopoldskronstraße 4\, Salzburg\, Salzburg\, 5020\, Österreich
CATEGORIES:Magic the Gathering
ATTACH;FMTTYPE=image/png:https://cardarena.at/wp-content/uploads/2023/08/Magic-The-Gathering-logo.png
END:VEVENT
BEGIN:VEVENT
DTSTART;TZID=UTC:20260523T150000
DTEND;TZID=UTC:20260523T230000
DTSTAMP:20260419T144827
CREATED:20250304T153653Z
LAST-MODIFIED:20260317T155943Z
UID:10011764-1779548400-1779577200@cardarena.at
SUMMARY:MtG: Commander Event
DESCRIPTION:
URL:https://cardarena.at/event/mtg-commander-evening/2026-05-23/
LOCATION:CardArena GmbH\, Leopoldskronstraße 4\, Salzburg\, Salzburg\, 5020\, Österreich
CATEGORIES:Magic the Gathering
ATTACH;FMTTYPE=image/png:https://cardarena.at/wp-content/uploads/2025/03/954debf16a4d6a3046f26041412f31d5.png
END:VEVENT
BEGIN:VEVENT
DTSTART;TZID=Europe/Helsinki:20260524T140000
DTEND;TZID=Europe/Helsinki:20260524T190000
DTSTAMP:20260419T144827
CREATED:20230914T215556Z
LAST-MODIFIED:20260402T161109Z
UID:10004452-1779631200-1779649200@cardarena.at
SUMMARY:Yu-Gi-Oh! Turnier Sonntag
DESCRIPTION:
URL:https://cardarena.at/event/yu-gi-oh-turnier-sonntag/2026-05-24/
LOCATION:CardArena GmbH\, Leopoldskronstraße 4\, Salzburg\, Salzburg\, 5020\, Österreich
CATEGORIES:Yu-Gi-Oh
ATTACH;FMTTYPE=image/png:https://cardarena.at/wp-content/uploads/2023/08/TCG_logo_500x500-e1765610550231.png
END:VEVENT
BEGIN:VEVENT
DTSTART;VALUE=DATE:20260525
DTEND;VALUE=DATE:20260526
DTSTAMP:20260419T144827
CREATED:20250115T134027Z
LAST-MODIFIED:20250502T144200Z
UID:10006343-1779667200-1779753599@cardarena.at
SUMMARY:GESCHLOSSEN
DESCRIPTION:
URL:https://cardarena.at/event/cardarena-geschlossen/2026-05-25/
LOCATION:CardArena GmbH\, Leopoldskronstraße 4\, Salzburg\, Salzburg\, 5020\, Österreich
END:VEVENT
BEGIN:VEVENT
DTSTART;VALUE=DATE:20260526
DTEND;VALUE=DATE:20260527
DTSTAMP:20260419T144827
CREATED:20250115T134027Z
LAST-MODIFIED:20250502T144200Z
UID:10006344-1779753600-1779839999@cardarena.at
SUMMARY:GESCHLOSSEN
DESCRIPTION:
URL:https://cardarena.at/event/cardarena-geschlossen/2026-05-26/
LOCATION:CardArena GmbH\, Leopoldskronstraße 4\, Salzburg\, Salzburg\, 5020\, Österreich
END:VEVENT
BEGIN:VEVENT
DTSTART;TZID=UTC:20260527T150000
DTEND;TZID=UTC:20260527T230000
DTSTAMP:20260419T144827
CREATED:20250304T153653Z
LAST-MODIFIED:20260317T155943Z
UID:10011765-1779894000-1779922800@cardarena.at
SUMMARY:MtG: Commander Event
DESCRIPTION:
URL:https://cardarena.at/event/mtg-commander-evening/2026-05-27/
LOCATION:CardArena GmbH\, Leopoldskronstraße 4\, Salzburg\, Salzburg\, 5020\, Österreich
CATEGORIES:Magic the Gathering
ATTACH;FMTTYPE=image/png:https://cardarena.at/wp-content/uploads/2025/03/954debf16a4d6a3046f26041412f31d5.png
END:VEVENT
BEGIN:VEVENT
DTSTART;TZID=UTC:20260527T180000
DTEND;TZID=UTC:20260527T200000
DTSTAMP:20260419T144827
CREATED:20260205T173152Z
LAST-MODIFIED:20260225T043115Z
UID:10010177-1779904800-1779912000@cardarena.at
SUMMARY:One Piece Turnier Mittwoch
DESCRIPTION:
URL:https://cardarena.at/event/one-piece-turnier-mittwoch/2026-05-27/
LOCATION:CardArena GmbH\, Leopoldskronstraße 4\, Salzburg\, Salzburg\, 5020\, Österreich
CATEGORIES:One Piece TCG
ATTACH;FMTTYPE=image/jpeg:https://cardarena.at/wp-content/uploads/2023/08/650x650_f935f1bd05c22cad10a4957f53622c08454584a4aa67ee74292e8135.jpg
END:VEVENT
BEGIN:VEVENT
DTSTART;TZID=UTC:20260527T180000
DTEND;TZID=UTC:20260527T220000
DTSTAMP:20260419T144827
CREATED:20251111T202219Z
LAST-MODIFIED:20260402T160914Z
UID:10011307-1779904800-1779919200@cardarena.at
SUMMARY:Riftbound: Nexus Night
DESCRIPTION:
URL:https://cardarena.at/event/riftbound-nexus-night/2026-05-27/
LOCATION:CardArena GmbH\, Leopoldskronstraße 4\, Salzburg\, Salzburg\, 5020\, Österreich
CATEGORIES:Riftbound
ATTACH;FMTTYPE=image/jpeg:https://cardarena.at/wp-content/uploads/2025/11/riftbound-logo.jpg
END:VEVENT
BEGIN:VEVENT
DTSTART;TZID=UTC:20260528T150000
DTEND;TZID=UTC:20260528T200000
DTSTAMP:20260419T144827
CREATED:20230905T113754Z
LAST-MODIFIED:20260402T161325Z
UID:10012682-1779980400-1779998400@cardarena.at
SUMMARY:Disney Lorcana League Day
DESCRIPTION:
URL:https://cardarena.at/event/disney-lorcana-league-day/2026-05-28/
LOCATION:CardArena GmbH\, Leopoldskronstraße 4\, Salzburg\, Salzburg\, 5020\, Österreich
CATEGORIES:Lorcana TCG
ATTACH;FMTTYPE=image/jpeg:https://cardarena.at/wp-content/uploads/2023/09/00_lorcana-042723_1180w-600h.jpg
END:VEVENT
BEGIN:VEVENT
DTSTART;TZID=Europe/Helsinki:20260528T170000
DTEND;TZID=Europe/Helsinki:20260528T200000
DTSTAMP:20260419T144827
CREATED:20230815T084659Z
LAST-MODIFIED:20260225T043056Z
UID:10000936-1779987600-1779998400@cardarena.at
SUMMARY:Yu-Gi-Oh! Turnier Donnerstag
DESCRIPTION:
URL:https://cardarena.at/event/yu-gi-oh-turnier/2026-05-28/
LOCATION:CardArena GmbH\, Leopoldskronstraße 4\, Salzburg\, Salzburg\, 5020\, Österreich
CATEGORIES:Yu-Gi-Oh
ATTACH;FMTTYPE=image/png:https://cardarena.at/wp-content/uploads/2023/08/TCG_logo_500x500-e1765610550231.png
END:VEVENT
BEGIN:VEVENT
DTSTART;TZID=UTC:20260529T150000
DTEND;TZID=UTC:20260529T230000
DTSTAMP:20260419T144827
CREATED:20250304T153653Z
LAST-MODIFIED:20260317T155943Z
UID:10011766-1780066800-1780095600@cardarena.at
SUMMARY:MtG: Commander Event
DESCRIPTION:
URL:https://cardarena.at/event/mtg-commander-evening/2026-05-29/
LOCATION:CardArena GmbH\, Leopoldskronstraße 4\, Salzburg\, Salzburg\, 5020\, Österreich
CATEGORIES:Magic the Gathering
ATTACH;FMTTYPE=image/png:https://cardarena.at/wp-content/uploads/2025/03/954debf16a4d6a3046f26041412f31d5.png
END:VEVENT
BEGIN:VEVENT
DTSTART;TZID=UTC:20260529T170000
DTEND;TZID=UTC:20260529T193000
DTSTAMP:20260419T144827
CREATED:20230815T084808Z
LAST-MODIFIED:20260402T161201Z
UID:10000149-1780074000-1780083000@cardarena.at
SUMMARY:One Piece Turnier
DESCRIPTION:
URL:https://cardarena.at/event/one-piece-turnier/2026-05-29/
LOCATION:CardArena GmbH\, Leopoldskronstraße 4\, Salzburg\, Salzburg\, 5020\, Österreich
CATEGORIES:One Piece TCG
ATTACH;FMTTYPE=image/jpeg:https://cardarena.at/wp-content/uploads/2023/08/650x650_f935f1bd05c22cad10a4957f53622c08454584a4aa67ee74292e8135.jpg
END:VEVENT
BEGIN:VEVENT
DTSTART;TZID=UTC:20260529T180000
DTEND;TZID=UTC:20260529T220000
DTSTAMP:20260419T144827
CREATED:20231205T134440Z
LAST-MODIFIED:20260402T161444Z
UID:10013398-1780077600-1780092000@cardarena.at
SUMMARY:Magic the Gathering Weekly Draft
DESCRIPTION:
URL:https://cardarena.at/event/magic-the-gathering-weekly-draft-2/2026-05-29/
LOCATION:CardArena GmbH\, Leopoldskronstraße 4\, Salzburg\, Salzburg\, 5020\, Österreich
CATEGORIES:Magic the Gathering
ATTACH;FMTTYPE=image/png:https://cardarena.at/wp-content/uploads/2023/08/Magic-The-Gathering-logo.png
END:VEVENT
BEGIN:VEVENT
DTSTART;TZID=UTC:20260530T150000
DTEND;TZID=UTC:20260530T230000
DTSTAMP:20260419T144827
CREATED:20250304T153653Z
LAST-MODIFIED:20260317T155943Z
UID:10011767-1780153200-1780182000@cardarena.at
SUMMARY:MtG: Commander Event
DESCRIPTION:
URL:https://cardarena.at/event/mtg-commander-evening/2026-05-30/
LOCATION:CardArena GmbH\, Leopoldskronstraße 4\, Salzburg\, Salzburg\, 5020\, Österreich
CATEGORIES:Magic the Gathering
ATTACH;FMTTYPE=image/png:https://cardarena.at/wp-content/uploads/2025/03/954debf16a4d6a3046f26041412f31d5.png
END:VEVENT
BEGIN:VEVENT
DTSTART;TZID=Europe/Helsinki:20260531T140000
DTEND;TZID=Europe/Helsinki:20260531T190000
DTSTAMP:20260419T144827
CREATED:20230914T215556Z
LAST-MODIFIED:20260402T161109Z
UID:10004453-1780236000-1780254000@cardarena.at
SUMMARY:Yu-Gi-Oh! Turnier Sonntag
DESCRIPTION:
URL:https://cardarena.at/event/yu-gi-oh-turnier-sonntag/2026-05-31/
LOCATION:CardArena GmbH\, Leopoldskronstraße 4\, Salzburg\, Salzburg\, 5020\, Österreich
CATEGORIES:Yu-Gi-Oh
ATTACH;FMTTYPE=image/png:https://cardarena.at/wp-content/uploads/2023/08/TCG_logo_500x500-e1765610550231.png
END:VEVENT
END:VCALENDAR