BEGIN:VCALENDAR
VERSION:2.0
PRODID:-//Trading Card Games, Turniere, Figuren und vieles mehr - ECPv6.15.20//NONSGML v1.0//EN
CALSCALE:GREGORIAN
METHOD:PUBLISH
X-WR-CALNAME:Trading Card Games, Turniere, Figuren und vieles mehr
X-ORIGINAL-URL:https://cardarena.at
X-WR-CALDESC:Veranstaltungen für Trading Card Games, Turniere, Figuren und vieles mehr
REFRESH-INTERVAL;VALUE=DURATION:PT1H
X-Robots-Tag:noindex
X-PUBLISHED-TTL:PT1H
BEGIN:VTIMEZONE
TZID:UTC
BEGIN:STANDARD
TZOFFSETFROM:+0000
TZOFFSETTO:+0000
TZNAME:UTC
DTSTART:20250101T000000
END:STANDARD
END:VTIMEZONE
BEGIN:VTIMEZONE
TZID:Europe/Helsinki
BEGIN:DAYLIGHT
TZOFFSETFROM:+0200
TZOFFSETTO:+0300
TZNAME:EEST
DTSTART:20250330T010000
END:DAYLIGHT
BEGIN:STANDARD
TZOFFSETFROM:+0300
TZOFFSETTO:+0200
TZNAME:EET
DTSTART:20251026T010000
END:STANDARD
BEGIN:DAYLIGHT
TZOFFSETFROM:+0200
TZOFFSETTO:+0300
TZNAME:EEST
DTSTART:20260329T010000
END:DAYLIGHT
BEGIN:STANDARD
TZOFFSETFROM:+0300
TZOFFSETTO:+0200
TZNAME:EET
DTSTART:20261025T010000
END:STANDARD
BEGIN:DAYLIGHT
TZOFFSETFROM:+0200
TZOFFSETTO:+0300
TZNAME:EEST
DTSTART:20270328T010000
END:DAYLIGHT
BEGIN:STANDARD
TZOFFSETFROM:+0300
TZOFFSETTO:+0200
TZNAME:EET
DTSTART:20271031T010000
END:STANDARD
END:VTIMEZONE
BEGIN:VEVENT
DTSTART;TZID=UTC:20260320T150000
DTEND;TZID=UTC:20260320T230000
DTSTAMP:20260425T133107
CREATED:20250304T153653Z
LAST-MODIFIED:20260317T155943Z
UID:10011736-1774018800-1774047600@cardarena.at
SUMMARY:MtG: Commander Event
DESCRIPTION:
URL:https://cardarena.at/event/mtg-commander-evening/2026-03-20/
LOCATION:CardArena GmbH\, Leopoldskronstraße 4\, Salzburg\, Salzburg\, 5020\, Österreich
CATEGORIES:Magic the Gathering
ATTACH;FMTTYPE=image/png:https://cardarena.at/wp-content/uploads/2025/03/954debf16a4d6a3046f26041412f31d5.png
END:VEVENT
BEGIN:VEVENT
DTSTART;TZID=UTC:20260319T180000
DTEND;TZID=UTC:20260319T200000
DTSTAMP:20260425T133107
CREATED:20260317T155651Z
LAST-MODIFIED:20260402T162105Z
UID:10011568-1773943200-1773950400@cardarena.at
SUMMARY:MtG: Premodern Tournament
DESCRIPTION:
URL:https://cardarena.at/event/mtg-premodern-tournament/2026-03-19/
LOCATION:CardArena GmbH\, Leopoldskronstraße 4\, Salzburg\, Salzburg\, 5020\, Österreich
CATEGORIES:Magic the Gathering
ATTACH;FMTTYPE=image/png:https://cardarena.at/wp-content/uploads/2026/01/Magic-The-Gathering-logo.png
END:VEVENT
BEGIN:VEVENT
DTSTART;TZID=Europe/Helsinki:20260319T170000
DTEND;TZID=Europe/Helsinki:20260319T200000
DTSTAMP:20260425T133107
CREATED:20230815T084659Z
LAST-MODIFIED:20260225T043056Z
UID:10000926-1773939600-1773950400@cardarena.at
SUMMARY:Yu-Gi-Oh! Turnier Donnerstag
DESCRIPTION:
URL:https://cardarena.at/event/yu-gi-oh-turnier/2026-03-19/
LOCATION:CardArena GmbH\, Leopoldskronstraße 4\, Salzburg\, Salzburg\, 5020\, Österreich
CATEGORIES:Yu-Gi-Oh
ATTACH;FMTTYPE=image/png:https://cardarena.at/wp-content/uploads/2023/08/TCG_logo_500x500-e1765610550231.png
END:VEVENT
BEGIN:VEVENT
DTSTART;TZID=UTC:20260319T150000
DTEND;TZID=UTC:20260319T200000
DTSTAMP:20260425T133107
CREATED:20230905T113754Z
LAST-MODIFIED:20260402T161325Z
UID:10012672-1773932400-1773950400@cardarena.at
SUMMARY:Disney Lorcana League Day
DESCRIPTION:
URL:https://cardarena.at/event/disney-lorcana-league-day/2026-03-19/
LOCATION:CardArena GmbH\, Leopoldskronstraße 4\, Salzburg\, Salzburg\, 5020\, Österreich
CATEGORIES:Lorcana TCG
ATTACH;FMTTYPE=image/jpeg:https://cardarena.at/wp-content/uploads/2023/09/00_lorcana-042723_1180w-600h.jpg
END:VEVENT
BEGIN:VEVENT
DTSTART;TZID=UTC:20260318T180000
DTEND;TZID=UTC:20260318T220000
DTSTAMP:20260425T133107
CREATED:20251111T202219Z
LAST-MODIFIED:20260402T160914Z
UID:10011297-1773856800-1773871200@cardarena.at
SUMMARY:Riftbound: Nexus Night
DESCRIPTION:
URL:https://cardarena.at/event/riftbound-nexus-night/2026-03-18/
LOCATION:CardArena GmbH\, Leopoldskronstraße 4\, Salzburg\, Salzburg\, 5020\, Österreich
CATEGORIES:Riftbound
ATTACH;FMTTYPE=image/jpeg:https://cardarena.at/wp-content/uploads/2025/11/riftbound-logo.jpg
END:VEVENT
BEGIN:VEVENT
DTSTART;TZID=UTC:20260318T180000
DTEND;TZID=UTC:20260318T200000
DTSTAMP:20260425T133107
CREATED:20260205T173152Z
LAST-MODIFIED:20260225T043115Z
UID:10010167-1773856800-1773864000@cardarena.at
SUMMARY:One Piece Turnier Mittwoch
DESCRIPTION:
URL:https://cardarena.at/event/one-piece-turnier-mittwoch/2026-03-18/
LOCATION:CardArena GmbH\, Leopoldskronstraße 4\, Salzburg\, Salzburg\, 5020\, Österreich
CATEGORIES:One Piece TCG
ATTACH;FMTTYPE=image/jpeg:https://cardarena.at/wp-content/uploads/2023/08/650x650_f935f1bd05c22cad10a4957f53622c08454584a4aa67ee74292e8135.jpg
END:VEVENT
BEGIN:VEVENT
DTSTART;TZID=UTC:20260318T150000
DTEND;TZID=UTC:20260318T230000
DTSTAMP:20260425T133107
CREATED:20250304T153653Z
LAST-MODIFIED:20260317T155943Z
UID:10011735-1773846000-1773874800@cardarena.at
SUMMARY:MtG: Commander Event
DESCRIPTION:
URL:https://cardarena.at/event/mtg-commander-evening/2026-03-18/
LOCATION:CardArena GmbH\, Leopoldskronstraße 4\, Salzburg\, Salzburg\, 5020\, Österreich
CATEGORIES:Magic the Gathering
ATTACH;FMTTYPE=image/png:https://cardarena.at/wp-content/uploads/2025/03/954debf16a4d6a3046f26041412f31d5.png
END:VEVENT
BEGIN:VEVENT
DTSTART;VALUE=DATE:20260317
DTEND;VALUE=DATE:20260318
DTSTAMP:20260425T133107
CREATED:20250115T134027Z
LAST-MODIFIED:20250502T144200Z
UID:10006324-1773705600-1773791999@cardarena.at
SUMMARY:GESCHLOSSEN
DESCRIPTION:
URL:https://cardarena.at/event/cardarena-geschlossen/2026-03-17/
LOCATION:CardArena GmbH\, Leopoldskronstraße 4\, Salzburg\, Salzburg\, 5020\, Österreich
END:VEVENT
BEGIN:VEVENT
DTSTART;VALUE=DATE:20260316
DTEND;VALUE=DATE:20260317
DTSTAMP:20260425T133107
CREATED:20250115T134027Z
LAST-MODIFIED:20250502T144200Z
UID:10006323-1773619200-1773705599@cardarena.at
SUMMARY:GESCHLOSSEN
DESCRIPTION:
URL:https://cardarena.at/event/cardarena-geschlossen/2026-03-16/
LOCATION:CardArena GmbH\, Leopoldskronstraße 4\, Salzburg\, Salzburg\, 5020\, Österreich
END:VEVENT
BEGIN:VEVENT
DTSTART;TZID=UTC:20260315T140000
DTEND;TZID=UTC:20260315T170000
DTSTAMP:20260425T133107
CREATED:20240216T103413Z
LAST-MODIFIED:20260310T023030Z
UID:10011557-1773583200-1773594000@cardarena.at
SUMMARY:Yugioh: OTS Championship
DESCRIPTION:Bitte beachten\, dass der Yugioh OTS Championship von 12 Uhr auf 14 Uhr verschoben wurde\, obwohl auf der Neuron Website noch die andere Uhrzeit steht. Man kann sich trotzdem online voranmelden!
URL:https://cardarena.at/event/yugioh-double-ots24-tournament/2026-03-15/
LOCATION:CardArena GmbH\, Leopoldskronstraße 4\, Salzburg\, Salzburg\, 5020\, Österreich
CATEGORIES:Yu-Gi-Oh
ATTACH;FMTTYPE=image/png:https://cardarena.at/wp-content/uploads/2024/02/OTS-logo-2020-Championship_250x250.png
END:VEVENT
BEGIN:VEVENT
DTSTART;TZID=UTC:20260314T150000
DTEND;TZID=UTC:20260314T230000
DTSTAMP:20260425T133107
CREATED:20250304T153653Z
LAST-MODIFIED:20260317T155943Z
UID:10011734-1773500400-1773529200@cardarena.at
SUMMARY:MtG: Commander Event
DESCRIPTION:
URL:https://cardarena.at/event/mtg-commander-evening/2026-03-14/
LOCATION:CardArena GmbH\, Leopoldskronstraße 4\, Salzburg\, Salzburg\, 5020\, Österreich
CATEGORIES:Magic the Gathering
ATTACH;FMTTYPE=image/png:https://cardarena.at/wp-content/uploads/2025/03/954debf16a4d6a3046f26041412f31d5.png
END:VEVENT
BEGIN:VEVENT
DTSTART;TZID=UTC:20260314T140000
DTEND;TZID=UTC:20260314T170000
DTSTAMP:20260425T133107
CREATED:20240207T151513Z
LAST-MODIFIED:20260402T161019Z
UID:10011278-1773496800-1773507600@cardarena.at
SUMMARY:Magic the Gathering: Monthly Modern Tournament
DESCRIPTION:  \n 
URL:https://cardarena.at/event/magic-the-gathering-monthly-modern-tournament/2026-03-14/
LOCATION:CardArena GmbH\, Leopoldskronstraße 4\, Salzburg\, Salzburg\, 5020\, Österreich
CATEGORIES:Magic the Gathering
ATTACH;FMTTYPE=image/webp:https://cardarena.at/wp-content/uploads/2024/02/Store_Championships_logo.webp
END:VEVENT
BEGIN:VEVENT
DTSTART;TZID=UTC:20260313T180000
DTEND;TZID=UTC:20260313T220000
DTSTAMP:20260425T133107
CREATED:20231205T134440Z
LAST-MODIFIED:20260402T161444Z
UID:10013388-1773424800-1773439200@cardarena.at
SUMMARY:Magic the Gathering Weekly Draft
DESCRIPTION:
URL:https://cardarena.at/event/magic-the-gathering-weekly-draft-2/2026-03-13/
LOCATION:CardArena GmbH\, Leopoldskronstraße 4\, Salzburg\, Salzburg\, 5020\, Österreich
CATEGORIES:Magic the Gathering
ATTACH;FMTTYPE=image/png:https://cardarena.at/wp-content/uploads/2023/08/Magic-The-Gathering-logo.png
END:VEVENT
BEGIN:VEVENT
DTSTART;TZID=UTC:20260313T170000
DTEND;TZID=UTC:20260313T193000
DTSTAMP:20260425T133107
CREATED:20230815T084808Z
LAST-MODIFIED:20260402T161201Z
UID:10000138-1773421200-1773430200@cardarena.at
SUMMARY:One Piece Turnier
DESCRIPTION:
URL:https://cardarena.at/event/one-piece-turnier/2026-03-13/
LOCATION:CardArena GmbH\, Leopoldskronstraße 4\, Salzburg\, Salzburg\, 5020\, Österreich
CATEGORIES:One Piece TCG
ATTACH;FMTTYPE=image/jpeg:https://cardarena.at/wp-content/uploads/2023/08/650x650_f935f1bd05c22cad10a4957f53622c08454584a4aa67ee74292e8135.jpg
END:VEVENT
BEGIN:VEVENT
DTSTART;TZID=UTC:20260313T150000
DTEND;TZID=UTC:20260313T230000
DTSTAMP:20260425T133108
CREATED:20250304T153653Z
LAST-MODIFIED:20260317T155943Z
UID:10011733-1773414000-1773442800@cardarena.at
SUMMARY:MtG: Commander Event
DESCRIPTION:
URL:https://cardarena.at/event/mtg-commander-evening/2026-03-13/
LOCATION:CardArena GmbH\, Leopoldskronstraße 4\, Salzburg\, Salzburg\, 5020\, Österreich
CATEGORIES:Magic the Gathering
ATTACH;FMTTYPE=image/png:https://cardarena.at/wp-content/uploads/2025/03/954debf16a4d6a3046f26041412f31d5.png
END:VEVENT
BEGIN:VEVENT
DTSTART;TZID=Europe/Helsinki:20260312T170000
DTEND;TZID=Europe/Helsinki:20260312T200000
DTSTAMP:20260425T133108
CREATED:20230815T084659Z
LAST-MODIFIED:20260225T043056Z
UID:10000925-1773334800-1773345600@cardarena.at
SUMMARY:Yu-Gi-Oh! Turnier Donnerstag
DESCRIPTION:
URL:https://cardarena.at/event/yu-gi-oh-turnier/2026-03-12/
LOCATION:CardArena GmbH\, Leopoldskronstraße 4\, Salzburg\, Salzburg\, 5020\, Österreich
CATEGORIES:Yu-Gi-Oh
ATTACH;FMTTYPE=image/png:https://cardarena.at/wp-content/uploads/2023/08/TCG_logo_500x500-e1765610550231.png
END:VEVENT
BEGIN:VEVENT
DTSTART;TZID=UTC:20260312T150000
DTEND;TZID=UTC:20260312T200000
DTSTAMP:20260425T133108
CREATED:20230905T113754Z
LAST-MODIFIED:20260402T161325Z
UID:10012671-1773327600-1773345600@cardarena.at
SUMMARY:Disney Lorcana League Day
DESCRIPTION:
URL:https://cardarena.at/event/disney-lorcana-league-day/2026-03-12/
LOCATION:CardArena GmbH\, Leopoldskronstraße 4\, Salzburg\, Salzburg\, 5020\, Österreich
CATEGORIES:Lorcana TCG
ATTACH;FMTTYPE=image/jpeg:https://cardarena.at/wp-content/uploads/2023/09/00_lorcana-042723_1180w-600h.jpg
END:VEVENT
BEGIN:VEVENT
DTSTART;TZID=UTC:20260311T180000
DTEND;TZID=UTC:20260311T220000
DTSTAMP:20260425T133108
CREATED:20251111T202219Z
LAST-MODIFIED:20260402T160914Z
UID:10011296-1773252000-1773266400@cardarena.at
SUMMARY:Riftbound: Nexus Night
DESCRIPTION:
URL:https://cardarena.at/event/riftbound-nexus-night/2026-03-11/
LOCATION:CardArena GmbH\, Leopoldskronstraße 4\, Salzburg\, Salzburg\, 5020\, Österreich
CATEGORIES:Riftbound
ATTACH;FMTTYPE=image/jpeg:https://cardarena.at/wp-content/uploads/2025/11/riftbound-logo.jpg
END:VEVENT
BEGIN:VEVENT
DTSTART;TZID=UTC:20260311T180000
DTEND;TZID=UTC:20260311T200000
DTSTAMP:20260425T133108
CREATED:20260205T173152Z
LAST-MODIFIED:20260225T043115Z
UID:10010166-1773252000-1773259200@cardarena.at
SUMMARY:One Piece Turnier Mittwoch
DESCRIPTION:
URL:https://cardarena.at/event/one-piece-turnier-mittwoch/2026-03-11/
LOCATION:CardArena GmbH\, Leopoldskronstraße 4\, Salzburg\, Salzburg\, 5020\, Österreich
CATEGORIES:One Piece TCG
ATTACH;FMTTYPE=image/jpeg:https://cardarena.at/wp-content/uploads/2023/08/650x650_f935f1bd05c22cad10a4957f53622c08454584a4aa67ee74292e8135.jpg
END:VEVENT
BEGIN:VEVENT
DTSTART;TZID=UTC:20260311T150000
DTEND;TZID=UTC:20260311T230000
DTSTAMP:20260425T133108
CREATED:20250304T153653Z
LAST-MODIFIED:20260317T155943Z
UID:10011732-1773241200-1773270000@cardarena.at
SUMMARY:MtG: Commander Event
DESCRIPTION:
URL:https://cardarena.at/event/mtg-commander-evening/2026-03-11/
LOCATION:CardArena GmbH\, Leopoldskronstraße 4\, Salzburg\, Salzburg\, 5020\, Österreich
CATEGORIES:Magic the Gathering
ATTACH;FMTTYPE=image/png:https://cardarena.at/wp-content/uploads/2025/03/954debf16a4d6a3046f26041412f31d5.png
END:VEVENT
BEGIN:VEVENT
DTSTART;VALUE=DATE:20260310
DTEND;VALUE=DATE:20260311
DTSTAMP:20260425T133108
CREATED:20250115T134027Z
LAST-MODIFIED:20250502T144200Z
UID:10006322-1773100800-1773187199@cardarena.at
SUMMARY:GESCHLOSSEN
DESCRIPTION:
URL:https://cardarena.at/event/cardarena-geschlossen/2026-03-10/
LOCATION:CardArena GmbH\, Leopoldskronstraße 4\, Salzburg\, Salzburg\, 5020\, Österreich
END:VEVENT
BEGIN:VEVENT
DTSTART;VALUE=DATE:20260309
DTEND;VALUE=DATE:20260310
DTSTAMP:20260425T133108
CREATED:20250115T134027Z
LAST-MODIFIED:20250502T144200Z
UID:10006321-1773014400-1773100799@cardarena.at
SUMMARY:GESCHLOSSEN
DESCRIPTION:
URL:https://cardarena.at/event/cardarena-geschlossen/2026-03-09/
LOCATION:CardArena GmbH\, Leopoldskronstraße 4\, Salzburg\, Salzburg\, 5020\, Österreich
END:VEVENT
BEGIN:VEVENT
DTSTART;TZID=Europe/Helsinki:20260308T140000
DTEND;TZID=Europe/Helsinki:20260308T190000
DTSTAMP:20260425T133108
CREATED:20230914T215556Z
LAST-MODIFIED:20260402T161109Z
UID:10004441-1772978400-1772996400@cardarena.at
SUMMARY:Yu-Gi-Oh! Turnier Sonntag
DESCRIPTION:
URL:https://cardarena.at/event/yu-gi-oh-turnier-sonntag/2026-03-08/
LOCATION:CardArena GmbH\, Leopoldskronstraße 4\, Salzburg\, Salzburg\, 5020\, Österreich
CATEGORIES:Yu-Gi-Oh
ATTACH;FMTTYPE=image/png:https://cardarena.at/wp-content/uploads/2023/08/TCG_logo_500x500-e1765610550231.png
END:VEVENT
BEGIN:VEVENT
DTSTART;TZID=UTC:20260307T150000
DTEND;TZID=UTC:20260307T230000
DTSTAMP:20260425T133108
CREATED:20250304T153653Z
LAST-MODIFIED:20260317T155943Z
UID:10011731-1772895600-1772924400@cardarena.at
SUMMARY:MtG: Commander Event
DESCRIPTION:
URL:https://cardarena.at/event/mtg-commander-evening/2026-03-07/
LOCATION:CardArena GmbH\, Leopoldskronstraße 4\, Salzburg\, Salzburg\, 5020\, Österreich
CATEGORIES:Magic the Gathering
ATTACH;FMTTYPE=image/png:https://cardarena.at/wp-content/uploads/2025/03/954debf16a4d6a3046f26041412f31d5.png
END:VEVENT
BEGIN:VEVENT
DTSTART;TZID=UTC:20260306T180000
DTEND;TZID=UTC:20260306T220000
DTSTAMP:20260425T133108
CREATED:20231205T134440Z
LAST-MODIFIED:20260402T161444Z
UID:10013387-1772820000-1772834400@cardarena.at
SUMMARY:Magic the Gathering Weekly Draft
DESCRIPTION:
URL:https://cardarena.at/event/magic-the-gathering-weekly-draft-2/2026-03-06/
LOCATION:CardArena GmbH\, Leopoldskronstraße 4\, Salzburg\, Salzburg\, 5020\, Österreich
CATEGORIES:Magic the Gathering
ATTACH;FMTTYPE=image/png:https://cardarena.at/wp-content/uploads/2023/08/Magic-The-Gathering-logo.png
END:VEVENT
BEGIN:VEVENT
DTSTART;TZID=UTC:20260306T170000
DTEND;TZID=UTC:20260306T193000
DTSTAMP:20260425T133108
CREATED:20230815T084808Z
LAST-MODIFIED:20260402T161201Z
UID:10000137-1772816400-1772825400@cardarena.at
SUMMARY:One Piece Turnier
DESCRIPTION:
URL:https://cardarena.at/event/one-piece-turnier/2026-03-06/
LOCATION:CardArena GmbH\, Leopoldskronstraße 4\, Salzburg\, Salzburg\, 5020\, Österreich
CATEGORIES:One Piece TCG
ATTACH;FMTTYPE=image/jpeg:https://cardarena.at/wp-content/uploads/2023/08/650x650_f935f1bd05c22cad10a4957f53622c08454584a4aa67ee74292e8135.jpg
END:VEVENT
BEGIN:VEVENT
DTSTART;TZID=UTC:20260306T150000
DTEND;TZID=UTC:20260306T230000
DTSTAMP:20260425T133108
CREATED:20250304T153653Z
LAST-MODIFIED:20260317T155943Z
UID:10011730-1772809200-1772838000@cardarena.at
SUMMARY:MtG: Commander Event
DESCRIPTION:
URL:https://cardarena.at/event/mtg-commander-evening/2026-03-06/
LOCATION:CardArena GmbH\, Leopoldskronstraße 4\, Salzburg\, Salzburg\, 5020\, Österreich
CATEGORIES:Magic the Gathering
ATTACH;FMTTYPE=image/png:https://cardarena.at/wp-content/uploads/2025/03/954debf16a4d6a3046f26041412f31d5.png
END:VEVENT
BEGIN:VEVENT
DTSTART;TZID=Europe/Helsinki:20260305T170000
DTEND;TZID=Europe/Helsinki:20260305T200000
DTSTAMP:20260425T133108
CREATED:20230815T084659Z
LAST-MODIFIED:20260225T043056Z
UID:10000924-1772730000-1772740800@cardarena.at
SUMMARY:Yu-Gi-Oh! Turnier Donnerstag
DESCRIPTION:
URL:https://cardarena.at/event/yu-gi-oh-turnier/2026-03-05/
LOCATION:CardArena GmbH\, Leopoldskronstraße 4\, Salzburg\, Salzburg\, 5020\, Österreich
CATEGORIES:Yu-Gi-Oh
ATTACH;FMTTYPE=image/png:https://cardarena.at/wp-content/uploads/2023/08/TCG_logo_500x500-e1765610550231.png
END:VEVENT
BEGIN:VEVENT
DTSTART;TZID=UTC:20260305T150000
DTEND;TZID=UTC:20260305T200000
DTSTAMP:20260425T133108
CREATED:20230905T113754Z
LAST-MODIFIED:20260402T161325Z
UID:10012670-1772722800-1772740800@cardarena.at
SUMMARY:Disney Lorcana League Day
DESCRIPTION:
URL:https://cardarena.at/event/disney-lorcana-league-day/2026-03-05/
LOCATION:CardArena GmbH\, Leopoldskronstraße 4\, Salzburg\, Salzburg\, 5020\, Österreich
CATEGORIES:Lorcana TCG
ATTACH;FMTTYPE=image/jpeg:https://cardarena.at/wp-content/uploads/2023/09/00_lorcana-042723_1180w-600h.jpg
END:VEVENT
BEGIN:VEVENT
DTSTART;TZID=UTC:20260304T180000
DTEND;TZID=UTC:20260304T220000
DTSTAMP:20260425T133108
CREATED:20251111T202219Z
LAST-MODIFIED:20260402T160914Z
UID:10011295-1772647200-1772661600@cardarena.at
SUMMARY:Riftbound: Nexus Night
DESCRIPTION:
URL:https://cardarena.at/event/riftbound-nexus-night/2026-03-04/
LOCATION:CardArena GmbH\, Leopoldskronstraße 4\, Salzburg\, Salzburg\, 5020\, Österreich
CATEGORIES:Riftbound
ATTACH;FMTTYPE=image/jpeg:https://cardarena.at/wp-content/uploads/2025/11/riftbound-logo.jpg
END:VEVENT
END:VCALENDAR