BEGIN:VCALENDAR
VERSION:2.0
PRODID:-//Trading Card Games, Turniere, Figuren und vieles mehr - ECPv6.15.20//NONSGML v1.0//EN
CALSCALE:GREGORIAN
METHOD:PUBLISH
X-ORIGINAL-URL:https://cardarena.at
X-WR-CALDESC:Veranstaltungen für Trading Card Games, Turniere, Figuren und vieles mehr
REFRESH-INTERVAL;VALUE=DURATION:PT1H
X-Robots-Tag:noindex
X-PUBLISHED-TTL:PT1H
BEGIN:VTIMEZONE
TZID:UTC
BEGIN:STANDARD
TZOFFSETFROM:+0000
TZOFFSETTO:+0000
TZNAME:UTC
DTSTART:20250101T000000
END:STANDARD
END:VTIMEZONE
BEGIN:VTIMEZONE
TZID:Europe/Helsinki
BEGIN:DAYLIGHT
TZOFFSETFROM:+0200
TZOFFSETTO:+0300
TZNAME:EEST
DTSTART:20250330T010000
END:DAYLIGHT
BEGIN:STANDARD
TZOFFSETFROM:+0300
TZOFFSETTO:+0200
TZNAME:EET
DTSTART:20251026T010000
END:STANDARD
BEGIN:DAYLIGHT
TZOFFSETFROM:+0200
TZOFFSETTO:+0300
TZNAME:EEST
DTSTART:20260329T010000
END:DAYLIGHT
BEGIN:STANDARD
TZOFFSETFROM:+0300
TZOFFSETTO:+0200
TZNAME:EET
DTSTART:20261025T010000
END:STANDARD
BEGIN:DAYLIGHT
TZOFFSETFROM:+0200
TZOFFSETTO:+0300
TZNAME:EEST
DTSTART:20270328T010000
END:DAYLIGHT
BEGIN:STANDARD
TZOFFSETFROM:+0300
TZOFFSETTO:+0200
TZNAME:EET
DTSTART:20271031T010000
END:STANDARD
END:VTIMEZONE
BEGIN:VEVENT
DTSTART;TZID=UTC:20260306T180000
DTEND;TZID=UTC:20260306T220000
DTSTAMP:20260425T163647
CREATED:20231205T134440Z
LAST-MODIFIED:20260402T161444Z
UID:10013387-1772820000-1772834400@cardarena.at
SUMMARY:Magic the Gathering Weekly Draft
DESCRIPTION:
URL:https://cardarena.at/event/magic-the-gathering-weekly-draft-2/2026-03-06/
LOCATION:CardArena GmbH\, Leopoldskronstraße 4\, Salzburg\, Salzburg\, 5020\, Österreich
CATEGORIES:Magic the Gathering
ATTACH;FMTTYPE=image/png:https://cardarena.at/wp-content/uploads/2023/08/Magic-The-Gathering-logo.png
END:VEVENT
BEGIN:VEVENT
DTSTART;TZID=UTC:20260306T170000
DTEND;TZID=UTC:20260306T193000
DTSTAMP:20260425T163647
CREATED:20230815T084808Z
LAST-MODIFIED:20260402T161201Z
UID:10000137-1772816400-1772825400@cardarena.at
SUMMARY:One Piece Turnier
DESCRIPTION:
URL:https://cardarena.at/event/one-piece-turnier/2026-03-06/
LOCATION:CardArena GmbH\, Leopoldskronstraße 4\, Salzburg\, Salzburg\, 5020\, Österreich
CATEGORIES:One Piece TCG
ATTACH;FMTTYPE=image/jpeg:https://cardarena.at/wp-content/uploads/2023/08/650x650_f935f1bd05c22cad10a4957f53622c08454584a4aa67ee74292e8135.jpg
END:VEVENT
BEGIN:VEVENT
DTSTART;TZID=UTC:20260306T150000
DTEND;TZID=UTC:20260306T230000
DTSTAMP:20260425T163647
CREATED:20250304T153653Z
LAST-MODIFIED:20260317T155943Z
UID:10011730-1772809200-1772838000@cardarena.at
SUMMARY:MtG: Commander Event
DESCRIPTION:
URL:https://cardarena.at/event/mtg-commander-evening/2026-03-06/
LOCATION:CardArena GmbH\, Leopoldskronstraße 4\, Salzburg\, Salzburg\, 5020\, Österreich
CATEGORIES:Magic the Gathering
ATTACH;FMTTYPE=image/png:https://cardarena.at/wp-content/uploads/2025/03/954debf16a4d6a3046f26041412f31d5.png
END:VEVENT
BEGIN:VEVENT
DTSTART;TZID=Europe/Helsinki:20260305T170000
DTEND;TZID=Europe/Helsinki:20260305T200000
DTSTAMP:20260425T163647
CREATED:20230815T084659Z
LAST-MODIFIED:20260225T043056Z
UID:10000924-1772730000-1772740800@cardarena.at
SUMMARY:Yu-Gi-Oh! Turnier Donnerstag
DESCRIPTION:
URL:https://cardarena.at/event/yu-gi-oh-turnier/2026-03-05/
LOCATION:CardArena GmbH\, Leopoldskronstraße 4\, Salzburg\, Salzburg\, 5020\, Österreich
CATEGORIES:Yu-Gi-Oh
ATTACH;FMTTYPE=image/png:https://cardarena.at/wp-content/uploads/2023/08/TCG_logo_500x500-e1765610550231.png
END:VEVENT
BEGIN:VEVENT
DTSTART;TZID=UTC:20260305T150000
DTEND;TZID=UTC:20260305T200000
DTSTAMP:20260425T163647
CREATED:20230905T113754Z
LAST-MODIFIED:20260402T161325Z
UID:10012670-1772722800-1772740800@cardarena.at
SUMMARY:Disney Lorcana League Day
DESCRIPTION:
URL:https://cardarena.at/event/disney-lorcana-league-day/2026-03-05/
LOCATION:CardArena GmbH\, Leopoldskronstraße 4\, Salzburg\, Salzburg\, 5020\, Österreich
CATEGORIES:Lorcana TCG
ATTACH;FMTTYPE=image/jpeg:https://cardarena.at/wp-content/uploads/2023/09/00_lorcana-042723_1180w-600h.jpg
END:VEVENT
BEGIN:VEVENT
DTSTART;TZID=UTC:20260304T180000
DTEND;TZID=UTC:20260304T220000
DTSTAMP:20260425T163647
CREATED:20251111T202219Z
LAST-MODIFIED:20260402T160914Z
UID:10011295-1772647200-1772661600@cardarena.at
SUMMARY:Riftbound: Nexus Night
DESCRIPTION:
URL:https://cardarena.at/event/riftbound-nexus-night/2026-03-04/
LOCATION:CardArena GmbH\, Leopoldskronstraße 4\, Salzburg\, Salzburg\, 5020\, Österreich
CATEGORIES:Riftbound
ATTACH;FMTTYPE=image/jpeg:https://cardarena.at/wp-content/uploads/2025/11/riftbound-logo.jpg
END:VEVENT
BEGIN:VEVENT
DTSTART;TZID=UTC:20260304T180000
DTEND;TZID=UTC:20260304T200000
DTSTAMP:20260425T163647
CREATED:20260205T173152Z
LAST-MODIFIED:20260225T043115Z
UID:10010165-1772647200-1772654400@cardarena.at
SUMMARY:One Piece Turnier Mittwoch
DESCRIPTION:
URL:https://cardarena.at/event/one-piece-turnier-mittwoch/2026-03-04/
LOCATION:CardArena GmbH\, Leopoldskronstraße 4\, Salzburg\, Salzburg\, 5020\, Österreich
CATEGORIES:One Piece TCG
ATTACH;FMTTYPE=image/jpeg:https://cardarena.at/wp-content/uploads/2023/08/650x650_f935f1bd05c22cad10a4957f53622c08454584a4aa67ee74292e8135.jpg
END:VEVENT
BEGIN:VEVENT
DTSTART;TZID=UTC:20260304T150000
DTEND;TZID=UTC:20260304T230000
DTSTAMP:20260425T163647
CREATED:20250304T153653Z
LAST-MODIFIED:20260317T155943Z
UID:10011729-1772636400-1772665200@cardarena.at
SUMMARY:MtG: Commander Event
DESCRIPTION:
URL:https://cardarena.at/event/mtg-commander-evening/2026-03-04/
LOCATION:CardArena GmbH\, Leopoldskronstraße 4\, Salzburg\, Salzburg\, 5020\, Österreich
CATEGORIES:Magic the Gathering
ATTACH;FMTTYPE=image/png:https://cardarena.at/wp-content/uploads/2025/03/954debf16a4d6a3046f26041412f31d5.png
END:VEVENT
BEGIN:VEVENT
DTSTART;VALUE=DATE:20260303
DTEND;VALUE=DATE:20260304
DTSTAMP:20260425T163647
CREATED:20250115T134027Z
LAST-MODIFIED:20250502T144200Z
UID:10006320-1772496000-1772582399@cardarena.at
SUMMARY:GESCHLOSSEN
DESCRIPTION:
URL:https://cardarena.at/event/cardarena-geschlossen/2026-03-03/
LOCATION:CardArena GmbH\, Leopoldskronstraße 4\, Salzburg\, Salzburg\, 5020\, Österreich
END:VEVENT
BEGIN:VEVENT
DTSTART;VALUE=DATE:20260302
DTEND;VALUE=DATE:20260303
DTSTAMP:20260425T163647
CREATED:20250115T134027Z
LAST-MODIFIED:20250502T144200Z
UID:10006319-1772409600-1772495999@cardarena.at
SUMMARY:GESCHLOSSEN
DESCRIPTION:
URL:https://cardarena.at/event/cardarena-geschlossen/2026-03-02/
LOCATION:CardArena GmbH\, Leopoldskronstraße 4\, Salzburg\, Salzburg\, 5020\, Österreich
END:VEVENT
BEGIN:VEVENT
DTSTART;TZID=UTC:20260301T143000
DTEND;TZID=UTC:20260301T170000
DTSTAMP:20260425T163647
CREATED:20240109T150051Z
LAST-MODIFIED:20260205T164532Z
UID:10009393-1772375400-1772384400@cardarena.at
SUMMARY:Flesh and Blood: Armory Event
DESCRIPTION:
URL:https://cardarena.at/event/flesh-and-blood-armory-event/2026-03-01/
LOCATION:CardArena GmbH\, Leopoldskronstraße 4\, Salzburg\, Salzburg\, 5020\, Österreich
CATEGORIES:Flesh and Blood
ATTACH;FMTTYPE=image/png:https://cardarena.at/wp-content/uploads/2024/01/Armory.png
END:VEVENT
BEGIN:VEVENT
DTSTART;TZID=Europe/Helsinki:20260301T140000
DTEND;TZID=Europe/Helsinki:20260301T190000
DTSTAMP:20260425T163647
CREATED:20230914T215556Z
LAST-MODIFIED:20260402T161109Z
UID:10004440-1772373600-1772391600@cardarena.at
SUMMARY:Yu-Gi-Oh! Turnier Sonntag
DESCRIPTION:
URL:https://cardarena.at/event/yu-gi-oh-turnier-sonntag/2026-03-01/
LOCATION:CardArena GmbH\, Leopoldskronstraße 4\, Salzburg\, Salzburg\, 5020\, Österreich
CATEGORIES:Yu-Gi-Oh
ATTACH;FMTTYPE=image/png:https://cardarena.at/wp-content/uploads/2023/08/TCG_logo_500x500-e1765610550231.png
END:VEVENT
BEGIN:VEVENT
DTSTART;TZID=UTC:20260228T150000
DTEND;TZID=UTC:20260228T170000
DTSTAMP:20260425T163647
CREATED:20260205T165616Z
LAST-MODIFIED:20260225T043241Z
UID:10009396-1772290800-1772298000@cardarena.at
SUMMARY:One Piece: Heroines Release Turnier
DESCRIPTION:
URL:https://cardarena.at/event/one-piece-heroines-release-turnier/
LOCATION:CardArena GmbH\, Leopoldskronstraße 4\, Salzburg\, Salzburg\, 5020\, Österreich
CATEGORIES:One Piece TCG
ATTACH;FMTTYPE=image/webp:https://cardarena.at/wp-content/uploads/2026/02/OP_Heroines.webp
END:VEVENT
BEGIN:VEVENT
DTSTART;TZID=UTC:20260228T140000
DTEND;TZID=UTC:20260228T170000
DTSTAMP:20260425T163647
CREATED:20260205T164947Z
LAST-MODIFIED:20260205T164948Z
UID:10009395-1772287200-1772298000@cardarena.at
SUMMARY:Grand Archive: Phantdom Monarchs Store Championship
DESCRIPTION:
URL:https://cardarena.at/event/grand-archive-phantdom-monarchs-store-championship/
LOCATION:CardArena GmbH\, Leopoldskronstraße 4\, Salzburg\, Salzburg\, 5020\, Österreich
CATEGORIES:Grand Archive TCG
ATTACH;FMTTYPE=image/jpeg:https://cardarena.at/wp-content/uploads/2026/02/GA_Phantom_Archives.jpg
END:VEVENT
BEGIN:VEVENT
DTSTART;TZID=UTC:20260227T190000
DTEND;TZID=UTC:20260227T210000
DTSTAMP:20260425T163647
CREATED:20260225T042608Z
LAST-MODIFIED:20260225T042608Z
UID:10010424-1772218800-1772226000@cardarena.at
SUMMARY:MTG: Teenage Mutant Ninja Turtles Draft
DESCRIPTION:
URL:https://cardarena.at/event/mtg-teenage-mutant-ninja-turtles-draft/
LOCATION:CardArena GmbH\, Leopoldskronstraße 4\, Salzburg\, Salzburg\, 5020\, Österreich
CATEGORIES:Magic the Gathering
ATTACH;FMTTYPE=image/jpeg:https://cardarena.at/wp-content/uploads/2026/02/magic-the-gathering-teenage-mutant-ninja-turtles-1024x576-1.jpg
END:VEVENT
BEGIN:VEVENT
DTSTART;TZID=UTC:20260227T150000
DTEND;TZID=UTC:20260227T230000
DTSTAMP:20260425T163647
CREATED:20250304T153653Z
LAST-MODIFIED:20260317T155943Z
UID:10011728-1772204400-1772233200@cardarena.at
SUMMARY:MtG: Commander Event
DESCRIPTION:
URL:https://cardarena.at/event/mtg-commander-evening/2026-02-27/
LOCATION:CardArena GmbH\, Leopoldskronstraße 4\, Salzburg\, Salzburg\, 5020\, Österreich
CATEGORIES:Magic the Gathering
ATTACH;FMTTYPE=image/png:https://cardarena.at/wp-content/uploads/2025/03/954debf16a4d6a3046f26041412f31d5.png
END:VEVENT
BEGIN:VEVENT
DTSTART;TZID=UTC:20260227T140000
DTEND;TZID=UTC:20260227T170000
DTSTAMP:20260425T163647
CREATED:20260225T042420Z
LAST-MODIFIED:20260225T042421Z
UID:10010423-1772200800-1772211600@cardarena.at
SUMMARY:MTG: Teenage Mutant Ninja Turtles Sealed
DESCRIPTION:
URL:https://cardarena.at/event/mtg-teenage-mutant-ninja-turtles-sealed/
LOCATION:CardArena GmbH\, Leopoldskronstraße 4\, Salzburg\, Salzburg\, 5020\, Österreich
CATEGORIES:Magic the Gathering
ATTACH;FMTTYPE=image/jpeg:https://cardarena.at/wp-content/uploads/2026/02/magic-the-gathering-teenage-mutant-ninja-turtles-1024x576-1.jpg
END:VEVENT
BEGIN:VEVENT
DTSTART;TZID=Europe/Helsinki:20260226T170000
DTEND;TZID=Europe/Helsinki:20260226T200000
DTSTAMP:20260425T163647
CREATED:20230815T084659Z
LAST-MODIFIED:20260225T043056Z
UID:10000923-1772125200-1772136000@cardarena.at
SUMMARY:Yu-Gi-Oh! Turnier Donnerstag
DESCRIPTION:
URL:https://cardarena.at/event/yu-gi-oh-turnier/2026-02-26/
LOCATION:CardArena GmbH\, Leopoldskronstraße 4\, Salzburg\, Salzburg\, 5020\, Österreich
CATEGORIES:Yu-Gi-Oh
ATTACH;FMTTYPE=image/png:https://cardarena.at/wp-content/uploads/2023/08/TCG_logo_500x500-e1765610550231.png
END:VEVENT
BEGIN:VEVENT
DTSTART;TZID=UTC:20260226T150000
DTEND;TZID=UTC:20260226T200000
DTSTAMP:20260425T163647
CREATED:20230905T113754Z
LAST-MODIFIED:20260402T161325Z
UID:10012669-1772118000-1772136000@cardarena.at
SUMMARY:Disney Lorcana League Day
DESCRIPTION:
URL:https://cardarena.at/event/disney-lorcana-league-day/2026-02-26/
LOCATION:CardArena GmbH\, Leopoldskronstraße 4\, Salzburg\, Salzburg\, 5020\, Österreich
CATEGORIES:Lorcana TCG
ATTACH;FMTTYPE=image/jpeg:https://cardarena.at/wp-content/uploads/2023/09/00_lorcana-042723_1180w-600h.jpg
END:VEVENT
BEGIN:VEVENT
DTSTART;TZID=UTC:20260225T180000
DTEND;TZID=UTC:20260225T220000
DTSTAMP:20260425T163647
CREATED:20251111T202219Z
LAST-MODIFIED:20260402T160914Z
UID:10011294-1772042400-1772056800@cardarena.at
SUMMARY:Riftbound: Nexus Night
DESCRIPTION:
URL:https://cardarena.at/event/riftbound-nexus-night/2026-02-25/
LOCATION:CardArena GmbH\, Leopoldskronstraße 4\, Salzburg\, Salzburg\, 5020\, Österreich
CATEGORIES:Riftbound
ATTACH;FMTTYPE=image/jpeg:https://cardarena.at/wp-content/uploads/2025/11/riftbound-logo.jpg
END:VEVENT
BEGIN:VEVENT
DTSTART;TZID=UTC:20260225T180000
DTEND;TZID=UTC:20260225T200000
DTSTAMP:20260425T163647
CREATED:20260205T173152Z
LAST-MODIFIED:20260225T043115Z
UID:10010164-1772042400-1772049600@cardarena.at
SUMMARY:One Piece Turnier Mittwoch
DESCRIPTION:
URL:https://cardarena.at/event/one-piece-turnier-mittwoch/2026-02-25/
LOCATION:CardArena GmbH\, Leopoldskronstraße 4\, Salzburg\, Salzburg\, 5020\, Österreich
CATEGORIES:One Piece TCG
ATTACH;FMTTYPE=image/jpeg:https://cardarena.at/wp-content/uploads/2023/08/650x650_f935f1bd05c22cad10a4957f53622c08454584a4aa67ee74292e8135.jpg
END:VEVENT
BEGIN:VEVENT
DTSTART;TZID=UTC:20260225T150000
DTEND;TZID=UTC:20260225T230000
DTSTAMP:20260425T163647
CREATED:20250304T153653Z
LAST-MODIFIED:20260317T155943Z
UID:10011727-1772031600-1772060400@cardarena.at
SUMMARY:MtG: Commander Event
DESCRIPTION:
URL:https://cardarena.at/event/mtg-commander-evening/2026-02-25/
LOCATION:CardArena GmbH\, Leopoldskronstraße 4\, Salzburg\, Salzburg\, 5020\, Österreich
CATEGORIES:Magic the Gathering
ATTACH;FMTTYPE=image/png:https://cardarena.at/wp-content/uploads/2025/03/954debf16a4d6a3046f26041412f31d5.png
END:VEVENT
BEGIN:VEVENT
DTSTART;VALUE=DATE:20260224
DTEND;VALUE=DATE:20260225
DTSTAMP:20260425T163647
CREATED:20250115T134027Z
LAST-MODIFIED:20250502T144200Z
UID:10006318-1771891200-1771977599@cardarena.at
SUMMARY:GESCHLOSSEN
DESCRIPTION:
URL:https://cardarena.at/event/cardarena-geschlossen/2026-02-24/
LOCATION:CardArena GmbH\, Leopoldskronstraße 4\, Salzburg\, Salzburg\, 5020\, Österreich
END:VEVENT
BEGIN:VEVENT
DTSTART;VALUE=DATE:20260223
DTEND;VALUE=DATE:20260224
DTSTAMP:20260425T163647
CREATED:20250115T134027Z
LAST-MODIFIED:20250502T144200Z
UID:10006317-1771804800-1771891199@cardarena.at
SUMMARY:GESCHLOSSEN
DESCRIPTION:
URL:https://cardarena.at/event/cardarena-geschlossen/2026-02-23/
LOCATION:CardArena GmbH\, Leopoldskronstraße 4\, Salzburg\, Salzburg\, 5020\, Österreich
END:VEVENT
BEGIN:VEVENT
DTSTART;TZID=Europe/Helsinki:20260222T140000
DTEND;TZID=Europe/Helsinki:20260222T190000
DTSTAMP:20260425T163647
CREATED:20230914T215556Z
LAST-MODIFIED:20260402T161109Z
UID:10004439-1771768800-1771786800@cardarena.at
SUMMARY:Yu-Gi-Oh! Turnier Sonntag
DESCRIPTION:
URL:https://cardarena.at/event/yu-gi-oh-turnier-sonntag/2026-02-22/
LOCATION:CardArena GmbH\, Leopoldskronstraße 4\, Salzburg\, Salzburg\, 5020\, Österreich
CATEGORIES:Yu-Gi-Oh
ATTACH;FMTTYPE=image/png:https://cardarena.at/wp-content/uploads/2023/08/TCG_logo_500x500-e1765610550231.png
END:VEVENT
BEGIN:VEVENT
DTSTART;TZID=UTC:20260222T080000
DTEND;TZID=UTC:20260222T170000
DTSTAMP:20260425T163647
CREATED:20241030T114335Z
LAST-MODIFIED:20260402T160821Z
UID:10009394-1771747200-1771779600@cardarena.at
SUMMARY:Pokemon Tauschbörse
DESCRIPTION:Bei der Pokemon Tauschbörse könnt ihr einfach vorbei kommen\, Karten tauschen\, Pokemon spielen und euch mit anderen über Pokemon unterhalten! \nWenn genügend Interesse vorhanden ist kann an diesem Tag auch ein Turnier stattfinden! \n  \n 
URL:https://cardarena.at/event/pokemon-tauschboerse/2026-02-22/
LOCATION:CardArena GmbH\, Leopoldskronstraße 4\, Salzburg\, Salzburg\, 5020\, Österreich
CATEGORIES:Pokemon TCG
ATTACH;FMTTYPE=image/png:https://cardarena.at/wp-content/uploads/2023/08/Pokemon_Trading_Card_Game_logo.svg_.png
END:VEVENT
BEGIN:VEVENT
DTSTART;TZID=UTC:20260221T150000
DTEND;TZID=UTC:20260221T230000
DTSTAMP:20260425T163647
CREATED:20250304T153653Z
LAST-MODIFIED:20260317T155943Z
UID:10011726-1771686000-1771714800@cardarena.at
SUMMARY:MtG: Commander Event
DESCRIPTION:
URL:https://cardarena.at/event/mtg-commander-evening/2026-02-21/
LOCATION:CardArena GmbH\, Leopoldskronstraße 4\, Salzburg\, Salzburg\, 5020\, Österreich
CATEGORIES:Magic the Gathering
ATTACH;FMTTYPE=image/png:https://cardarena.at/wp-content/uploads/2025/03/954debf16a4d6a3046f26041412f31d5.png
END:VEVENT
BEGIN:VEVENT
DTSTART;TZID=UTC:20260220T180000
DTEND;TZID=UTC:20260220T220000
DTSTAMP:20260425T163647
CREATED:20231205T134440Z
LAST-MODIFIED:20260402T161444Z
UID:10013386-1771610400-1771624800@cardarena.at
SUMMARY:Magic the Gathering Weekly Draft
DESCRIPTION:
URL:https://cardarena.at/event/magic-the-gathering-weekly-draft-2/2026-02-20/
LOCATION:CardArena GmbH\, Leopoldskronstraße 4\, Salzburg\, Salzburg\, 5020\, Österreich
CATEGORIES:Magic the Gathering
ATTACH;FMTTYPE=image/png:https://cardarena.at/wp-content/uploads/2023/08/Magic-The-Gathering-logo.png
END:VEVENT
BEGIN:VEVENT
DTSTART;TZID=UTC:20260220T170000
DTEND;TZID=UTC:20260220T193000
DTSTAMP:20260425T163647
CREATED:20230815T084808Z
LAST-MODIFIED:20260402T161201Z
UID:10000135-1771606800-1771615800@cardarena.at
SUMMARY:One Piece Turnier
DESCRIPTION:
URL:https://cardarena.at/event/one-piece-turnier/2026-02-20/
LOCATION:CardArena GmbH\, Leopoldskronstraße 4\, Salzburg\, Salzburg\, 5020\, Österreich
CATEGORIES:One Piece TCG
ATTACH;FMTTYPE=image/jpeg:https://cardarena.at/wp-content/uploads/2023/08/650x650_f935f1bd05c22cad10a4957f53622c08454584a4aa67ee74292e8135.jpg
END:VEVENT
BEGIN:VEVENT
DTSTART;TZID=UTC:20260220T150000
DTEND;TZID=UTC:20260220T230000
DTSTAMP:20260425T163647
CREATED:20250304T153653Z
LAST-MODIFIED:20260317T155943Z
UID:10011725-1771599600-1771628400@cardarena.at
SUMMARY:MtG: Commander Event
DESCRIPTION:
URL:https://cardarena.at/event/mtg-commander-evening/2026-02-20/
LOCATION:CardArena GmbH\, Leopoldskronstraße 4\, Salzburg\, Salzburg\, 5020\, Österreich
CATEGORIES:Magic the Gathering
ATTACH;FMTTYPE=image/png:https://cardarena.at/wp-content/uploads/2025/03/954debf16a4d6a3046f26041412f31d5.png
END:VEVENT
END:VCALENDAR